BEGIN:VCALENDAR
VERSION:2.0
PRODID:-//Steinerschool Leuven de Zonnewijzer - ECPv6.15.20//NONSGML v1.0//EN
CALSCALE:GREGORIAN
METHOD:PUBLISH
X-WR-CALNAME:Steinerschool Leuven de Zonnewijzer
X-ORIGINAL-URL:https://www.steinerschoolleuven.be
X-WR-CALDESC:Evenementen voor Steinerschool Leuven de Zonnewijzer
REFRESH-INTERVAL;VALUE=DURATION:PT1H
X-Robots-Tag:noindex
X-PUBLISHED-TTL:PT1H
BEGIN:VTIMEZONE
TZID:Europe/Brussels
BEGIN:DAYLIGHT
TZOFFSETFROM:+0100
TZOFFSETTO:+0200
TZNAME:CEST
DTSTART:20240331T010000
END:DAYLIGHT
BEGIN:STANDARD
TZOFFSETFROM:+0200
TZOFFSETTO:+0100
TZNAME:CET
DTSTART:20241027T010000
END:STANDARD
BEGIN:DAYLIGHT
TZOFFSETFROM:+0100
TZOFFSETTO:+0200
TZNAME:CEST
DTSTART:20250330T010000
END:DAYLIGHT
BEGIN:STANDARD
TZOFFSETFROM:+0200
TZOFFSETTO:+0100
TZNAME:CET
DTSTART:20251026T010000
END:STANDARD
BEGIN:DAYLIGHT
TZOFFSETFROM:+0100
TZOFFSETTO:+0200
TZNAME:CEST
DTSTART:20260329T010000
END:DAYLIGHT
BEGIN:STANDARD
TZOFFSETFROM:+0200
TZOFFSETTO:+0100
TZNAME:CET
DTSTART:20261025T010000
END:STANDARD
BEGIN:DAYLIGHT
TZOFFSETFROM:+0100
TZOFFSETTO:+0200
TZNAME:CEST
DTSTART:20270328T010000
END:DAYLIGHT
BEGIN:STANDARD
TZOFFSETFROM:+0200
TZOFFSETTO:+0100
TZNAME:CET
DTSTART:20271031T010000
END:STANDARD
END:VTIMEZONE
BEGIN:VEVENT
DTSTART;TZID=Europe/Brussels:20250529T000000
DTEND;TZID=Europe/Brussels:20250601T235959
DTSTAMP:20260425T173941
CREATED:20250207T152732Z
LAST-MODIFIED:20250207T152734Z
UID:32664-1748476800-1748822399@www.steinerschoolleuven.be
SUMMARY:Hemelvaartweekend
DESCRIPTION:vrij voor iedereen
URL:https://www.steinerschoolleuven.be/activiteit/hemelvaartweekend-4/
CATEGORIES:Algemeen
END:VEVENT
BEGIN:VEVENT
DTSTART;TZID=Europe/Brussels:20250603T193000
DTEND;TZID=Europe/Brussels:20250603T220000
DTSTAMP:20260425T173941
CREATED:20250523T114359Z
LAST-MODIFIED:20250523T114401Z
UID:33760-1748979000-1748988000@www.steinerschoolleuven.be
SUMMARY:Ouderavond
DESCRIPTION:We willen vooral samen met andere ouders nadenken over hoe we op een bewuste en zorgzame manier kunnen omgaan met smartphones en schermtijd.
URL:https://www.steinerschoolleuven.be/activiteit/ouderavond/
CATEGORIES:Algemeen
END:VEVENT
BEGIN:VEVENT
DTSTART;TZID=Europe/Brussels:20250609T000000
DTEND;TZID=Europe/Brussels:20250609T235959
DTSTAMP:20260425T173942
CREATED:20250228T140414Z
LAST-MODIFIED:20250509T121527Z
UID:33408-1749427200-1749513599@www.steinerschoolleuven.be
SUMMARY:Pinkstermaandag
DESCRIPTION:vrij voor iedereen
URL:https://www.steinerschoolleuven.be/activiteit/pinkstermaandag-2/
CATEGORIES:Algemeen
END:VEVENT
BEGIN:VEVENT
DTSTART;TZID=Europe/Brussels:20250620T193000
DTEND;TZID=Europe/Brussels:20250620T213000
DTSTAMP:20260425T173942
CREATED:20250516T071809Z
LAST-MODIFIED:20250615T131622Z
UID:33675-1750447800-1750455000@www.steinerschoolleuven.be
SUMMARY:Eindtoneel klas 12A: Alice in Wonderland
DESCRIPTION:Deuren: 19.30 uur | Voorstelling: 20.00 uur \n\n\n\nWaarschuwing: er wordt gebruik gemaakt van stroboscopisch licht tijdens de voorstelling (voor een duur van 8 minuten). De voorstelling is dus niet geschikt voor mensen die omwille van gezondheidsredenen geen stroboscopisch licht kunnen verdragen.
URL:https://www.steinerschoolleuven.be/activiteit/eindtoneel-klas-12a-alice-in-wonderland-20250620/
LOCATION:De Zonnewijzer\, Privaatweg 7\, Leuven\, 3018\, België
CATEGORIES:Algemeen
ATTACH;FMTTYPE=image/jpeg:https://www.steinerschoolleuven.be/wp-content/uploads/Alice-in-Wonderland.jpg
END:VEVENT
BEGIN:VEVENT
DTSTART;TZID=Europe/Brussels:20250621T193000
DTEND;TZID=Europe/Brussels:20250621T213000
DTSTAMP:20260425T173942
CREATED:20250516T072519Z
LAST-MODIFIED:20250615T131600Z
UID:33680-1750534200-1750541400@www.steinerschoolleuven.be
SUMMARY:Eindtoneel klas 12A: Alice in Wonderland
DESCRIPTION:Deuren: 19.30 uur | Voorstelling: 20.00 uur \n\n\n\nWaarschuwing: er wordt gebruik gemaakt van stroboscopisch licht tijdens de voorstelling (voor een duur van 8 minuten). De voorstelling is dus niet geschikt voor mensen die omwille van gezondheidsredenen geen stroboscopisch licht kunnen verdragen.
URL:https://www.steinerschoolleuven.be/activiteit/eindtoneel-klas-12a-alice-in-wonderland-20250621/
LOCATION:De Zonnewijzer\, Privaatweg 7\, Leuven\, 3018\, België
CATEGORIES:Algemeen
END:VEVENT
BEGIN:VEVENT
DTSTART;TZID=Europe/Brussels:20250622T143000
DTEND;TZID=Europe/Brussels:20250622T163000
DTSTAMP:20260425T173942
CREATED:20250516T073119Z
LAST-MODIFIED:20250615T131642Z
UID:33685-1750602600-1750609800@www.steinerschoolleuven.be
SUMMARY:Eindtoneel klas 12A: Alice in Wonderland
DESCRIPTION:Deuren: 14.30 uur | Voorstelling: 15.00 uur \n\n\n\nWaarschuwing: er wordt gebruik gemaakt van stroboscopisch licht tijdens de voorstelling (voor een duur van 8 minuten). De voorstelling is dus niet geschikt voor mensen die omwille van gezondheidsredenen geen stroboscopisch licht kunnen verdragen.
URL:https://www.steinerschoolleuven.be/activiteit/eindtoneel-klas-12a-alice-in-wonderland-20250622/
LOCATION:De Zonnewijzer\, Privaatweg 7\, Leuven\, 3018\, België
CATEGORIES:Algemeen
END:VEVENT
BEGIN:VEVENT
DTSTART;TZID=Europe/Brussels:20250629T100000
DTEND;TZID=Europe/Brussels:20250629T170000
DTSTAMP:20260425T173942
CREATED:20250516T130215Z
LAST-MODIFIED:20250516T130217Z
UID:33707-1751191200-1751216400@www.steinerschoolleuven.be
SUMMARY:GROTE KLUSDAG
DESCRIPTION:
URL:https://www.steinerschoolleuven.be/activiteit/grote-klusdag/
CATEGORIES:Algemeen
END:VEVENT
BEGIN:VEVENT
DTSTART;TZID=Europe/Brussels:20250630T100000
DTEND;TZID=Europe/Brussels:20250630T120000
DTSTAMP:20260425T173942
CREATED:20250228T142559Z
LAST-MODIFIED:20250228T142601Z
UID:33428-1751277600-1751284800@www.steinerschoolleuven.be
SUMMARY:Laatste schooldag + uitreiken rapporten en getuigschriften
DESCRIPTION:
URL:https://www.steinerschoolleuven.be/activiteit/laatste-schooldag-uitreiken-rapporten-en-getuigschriften/
CATEGORIES:Algemeen
END:VEVENT
BEGIN:VEVENT
DTSTART;TZID=Europe/Brussels:20250901T000000
DTEND;TZID=Europe/Brussels:20250901T235959
DTSTAMP:20260425T173942
CREATED:20250905T114014Z
LAST-MODIFIED:20250905T114019Z
UID:34829-1756684800-1756771199@www.steinerschoolleuven.be
SUMMARY:Start schooljaar
DESCRIPTION:
URL:https://www.steinerschoolleuven.be/activiteit/start-schooljaar/
CATEGORIES:Algemeen
END:VEVENT
BEGIN:VEVENT
DTSTART;TZID=Europe/Brussels:20250911T190000
DTEND;TZID=Europe/Brussels:20250911T220000
DTSTAMP:20260425T173942
CREATED:20250905T114233Z
LAST-MODIFIED:20250905T114235Z
UID:34831-1757617200-1757628000@www.steinerschoolleuven.be
SUMMARY:Algemene ouderavond
DESCRIPTION:
URL:https://www.steinerschoolleuven.be/activiteit/algemene-ouderavond-7/
CATEGORIES:Algemeen
END:VEVENT
BEGIN:VEVENT
DTSTART;TZID=Europe/Brussels:20250923T190000
DTEND;TZID=Europe/Brussels:20250923T213000
DTSTAMP:20260425T173942
CREATED:20250912T115035Z
LAST-MODIFIED:20250912T115037Z
UID:34898-1758654000-1758663000@www.steinerschoolleuven.be
SUMMARY:ouderbijeenkomst “smartphone talk”
DESCRIPTION:voor alle ouders van peuters t.e.m. 12de klassers
URL:https://www.steinerschoolleuven.be/activiteit/ouderbijeenkomst-smartphone-talk/
CATEGORIES:Algemeen
END:VEVENT
BEGIN:VEVENT
DTSTART;TZID=Europe/Brussels:20250928T093000
DTEND;TZID=Europe/Brussels:20250928T123000
DTSTAMP:20260425T173942
CREATED:20250905T120238Z
LAST-MODIFIED:20250912T123055Z
UID:34844-1759051800-1759062600@www.steinerschoolleuven.be
SUMMARY:Ouderacademie: Relationele en seksuele opvoeding
DESCRIPTION:
URL:https://www.steinerschoolleuven.be/activiteit/ouderacademie-relationele-en-seksuele-opvoeding/
CATEGORIES:Algemeen
ATTACH;FMTTYPE=image/jpeg:https://www.steinerschoolleuven.be/wp-content/uploads/Ouderacademie-sept-25.jpg
END:VEVENT
BEGIN:VEVENT
DTSTART;TZID=Europe/Brussels:20251002T000000
DTEND;TZID=Europe/Brussels:20251002T235959
DTSTAMP:20260425T173942
CREATED:20250905T115853Z
LAST-MODIFIED:20250905T115853Z
UID:34842-1759363200-1759449599@www.steinerschoolleuven.be
SUMMARY:Pedagogische studiedag
DESCRIPTION:Vrij voor alle leerlingen
URL:https://www.steinerschoolleuven.be/activiteit/pedagogische-studiedag/
CATEGORIES:Algemeen
END:VEVENT
BEGIN:VEVENT
DTSTART;TZID=Europe/Brussels:20251007T193000
DTEND;TZID=Europe/Brussels:20251007T213000
DTSTAMP:20260425T173942
CREATED:20250926T090429Z
LAST-MODIFIED:20250926T090611Z
UID:34989-1759865400-1759872600@www.steinerschoolleuven.be
SUMMARY:Voorbereidende vergadering GESCHENKENMARKT
DESCRIPTION:Iedereen welkom in de zitkuil!
URL:https://www.steinerschoolleuven.be/activiteit/voorbereidende-vergadering-geschenkenmarkt/
CATEGORIES:Algemeen
END:VEVENT
BEGIN:VEVENT
DTSTART;TZID=Europe/Brussels:20251011T100000
DTEND;TZID=Europe/Brussels:20251011T170000
DTSTAMP:20260425T173942
CREATED:20250912T134434Z
LAST-MODIFIED:20250912T134436Z
UID:34910-1760176800-1760202000@www.steinerschoolleuven.be
SUMMARY:KLUS- en TUINDAG
DESCRIPTION:
URL:https://www.steinerschoolleuven.be/activiteit/klus-en-tuindag/
CATEGORIES:Algemeen
END:VEVENT
BEGIN:VEVENT
DTSTART;TZID=Europe/Brussels:20251017T170000
DTEND;TZID=Europe/Brussels:20251017T233000
DTSTAMP:20260425T173942
CREATED:20250919T130434Z
LAST-MODIFIED:20250919T130436Z
UID:34969-1760720400-1760743800@www.steinerschoolleuven.be
SUMMARY:Italiaanse avond door klas 12A
DESCRIPTION:
URL:https://www.steinerschoolleuven.be/activiteit/italiaanse-avond-door-klas-12a/
CATEGORIES:Algemeen
ATTACH;FMTTYPE=image/jpeg:https://www.steinerschoolleuven.be/wp-content/uploads/Italiaanse-avond.jpg
END:VEVENT
BEGIN:VEVENT
DTSTART;TZID=Europe/Brussels:20251027T000000
DTEND;TZID=Europe/Brussels:20251102T235959
DTSTAMP:20260425T173942
CREATED:20250905T122119Z
LAST-MODIFIED:20250905T122122Z
UID:34853-1761523200-1762127999@www.steinerschoolleuven.be
SUMMARY:Herfstvakantie
DESCRIPTION:
URL:https://www.steinerschoolleuven.be/activiteit/herfstvakantie-7/
CATEGORIES:Algemeen
END:VEVENT
BEGIN:VEVENT
DTSTART;TZID=Europe/Brussels:20251110T000000
DTEND;TZID=Europe/Brussels:20251110T235959
DTSTAMP:20260425T173942
CREATED:20250905T123446Z
LAST-MODIFIED:20250905T123938Z
UID:34865-1762732800-1762819199@www.steinerschoolleuven.be
SUMMARY:Vrije dag
DESCRIPTION:voor iedereen
URL:https://www.steinerschoolleuven.be/activiteit/vrije-dag-3/
CATEGORIES:Algemeen
END:VEVENT
BEGIN:VEVENT
DTSTART;TZID=Europe/Brussels:20251111T000000
DTEND;TZID=Europe/Brussels:20251111T235959
DTSTAMP:20260425T173942
CREATED:20250905T123547Z
LAST-MODIFIED:20250905T123550Z
UID:34867-1762819200-1762905599@www.steinerschoolleuven.be
SUMMARY:Wapenstilstand
DESCRIPTION:vrij voor iedereen
URL:https://www.steinerschoolleuven.be/activiteit/wapenstilstand-6/
CATEGORIES:Algemeen
END:VEVENT
BEGIN:VEVENT
DTSTART;TZID=Europe/Brussels:20251122T000000
DTEND;TZID=Europe/Brussels:20251122T235959
DTSTAMP:20260425T173942
CREATED:20250912T134904Z
LAST-MODIFIED:20250912T134907Z
UID:34912-1763769600-1763855999@www.steinerschoolleuven.be
SUMMARY:GESCHENKENMARKT
DESCRIPTION:
URL:https://www.steinerschoolleuven.be/activiteit/geschenkenmarkt-6/
CATEGORIES:Algemeen
END:VEVENT
BEGIN:VEVENT
DTSTART;TZID=Europe/Brussels:20251205T000000
DTEND;TZID=Europe/Brussels:20251205T235959
DTSTAMP:20260425T173942
CREATED:20250919T105707Z
LAST-MODIFIED:20250919T113707Z
UID:34936-1764892800-1764979199@www.steinerschoolleuven.be
SUMMARY:Sinterklaasfeest
DESCRIPTION:
URL:https://www.steinerschoolleuven.be/activiteit/sinterklaasfeest-2/
CATEGORIES:Algemeen
END:VEVENT
BEGIN:VEVENT
DTSTART;TZID=Europe/Brussels:20251212T200000
DTEND;TZID=Europe/Brussels:20251212T220000
DTSTAMP:20260425T173942
CREATED:20251124T091933Z
LAST-MODIFIED:20251212T174359Z
UID:35238-1765569600-1765576800@www.steinerschoolleuven.be
SUMMARY:Toneel klas 12B: Midzomernachtsdroom
DESCRIPTION:Klas 12B speelt Midzomernachtsdroom onder regie van Margot Vyverman op vrijdag 12\, zaterdag 13 en zondag 14 december in Steinerschool De Zonnewijzer (Privaatweg 7\, 3018 Wijgmaal).
URL:https://www.steinerschoolleuven.be/activiteit/toneel-klas-12b-midzomernachtsdroom-12122025/
CATEGORIES:Algemeen
END:VEVENT
BEGIN:VEVENT
DTSTART;TZID=Europe/Brussels:20251213T200000
DTEND;TZID=Europe/Brussels:20251213T220000
DTSTAMP:20260425T173942
CREATED:20251124T092023Z
LAST-MODIFIED:20251212T174420Z
UID:35243-1765656000-1765663200@www.steinerschoolleuven.be
SUMMARY:Toneel klas 12B: Midzomernachtsdroom
DESCRIPTION:Klas 12B speelt Midzomernachtsdroom onder regie van Margot Vyverman op vrijdag 12\, zaterdag 13 en zondag 14 december in Steinerschool De Zonnewijzer (Privaatweg 7\, 3018 Wijgmaal).
URL:https://www.steinerschoolleuven.be/activiteit/toneel-klas-12b-midzomernachtsdroom-13122025/
CATEGORIES:Algemeen
END:VEVENT
BEGIN:VEVENT
DTSTART;TZID=Europe/Brussels:20251214T150000
DTEND;TZID=Europe/Brussels:20251214T170000
DTSTAMP:20260425T173942
CREATED:20251124T092113Z
LAST-MODIFIED:20251212T174436Z
UID:35247-1765724400-1765731600@www.steinerschoolleuven.be
SUMMARY:Toneel 12B: Midzomernachtsdroom
DESCRIPTION:Klas 12B speelt Midzomernachtsdroom onder regie van Margot Vyverman op vrijdag 12\, zaterdag 13 en zondag 14 december in Steinerschool De Zonnewijzer (Privaatweg 7\, 3018 Wijgmaal).
URL:https://www.steinerschoolleuven.be/activiteit/toneel-12b-midzomernachtsdroom-14122025/
CATEGORIES:Algemeen
END:VEVENT
BEGIN:VEVENT
DTSTART;TZID=Europe/Brussels:20251222T000000
DTEND;TZID=Europe/Brussels:20260104T235959
DTSTAMP:20260425T173942
CREATED:20250919T114245Z
LAST-MODIFIED:20250919T114330Z
UID:34940-1766361600-1767571199@www.steinerschoolleuven.be
SUMMARY:Kerstvakantie
DESCRIPTION:
URL:https://www.steinerschoolleuven.be/activiteit/kerstvakantie-7/
CATEGORIES:Algemeen
END:VEVENT
BEGIN:VEVENT
DTSTART;TZID=Europe/Brussels:20260130T200000
DTEND;TZID=Europe/Brussels:20260130T220000
DTSTAMP:20260425T173942
CREATED:20251222T180041Z
LAST-MODIFIED:20260112T103633Z
UID:36207-1769803200-1769810400@www.steinerschoolleuven.be
SUMMARY:Toneel klas 12A: Moord op de Oriënt Express
DESCRIPTION:Klas 12A speelt Moord op de Oriënt Express op vrijdag 30 en zaterdag 31 januari en zondag 1 februari in Steinerschool De Zonnewijzer (Privaatweg 7\, 3018 Wijgmaal).
URL:https://www.steinerschoolleuven.be/activiteit/toneel-klas-12a-300126/
CATEGORIES:Algemeen
END:VEVENT
BEGIN:VEVENT
DTSTART;TZID=Europe/Brussels:20260131T100000
DTEND;TZID=Europe/Brussels:20260131T170000
DTSTAMP:20260425T173942
CREATED:20250919T120359Z
LAST-MODIFIED:20260109T130232Z
UID:34947-1769853600-1769878800@www.steinerschoolleuven.be
SUMMARY:KLUSDAG
DESCRIPTION:De focus ligt deze  keer op meubelmakerij: kasten maken voor de nieuwe bib\, een nieuwe archiefkast in de gang naast de schrijnwerkerij\, herinrichting van het bibje.
URL:https://www.steinerschoolleuven.be/activiteit/klus-en-tuindag-2/
CATEGORIES:Algemeen
END:VEVENT
BEGIN:VEVENT
DTSTART;TZID=Europe/Brussels:20260131T200000
DTEND;TZID=Europe/Brussels:20260131T220000
DTSTAMP:20260425T173942
CREATED:20251222T180446Z
LAST-MODIFIED:20260112T103811Z
UID:36216-1769889600-1769896800@www.steinerschoolleuven.be
SUMMARY:Toneel klas 12A: Moord op de Oriënt Express
DESCRIPTION:Klas 12A speelt Moord op de Oriënt Express op vrijdag 30 en zaterdag 31 januari en zondag 1 februari in Steinerschool De Zonnewijzer (Privaatweg 7\, 3018 Wijgmaal).
URL:https://www.steinerschoolleuven.be/activiteit/toneel-klas-12a-31012026/
CATEGORIES:Algemeen
END:VEVENT
BEGIN:VEVENT
DTSTART;TZID=Europe/Brussels:20260201T150000
DTEND;TZID=Europe/Brussels:20260201T170000
DTSTAMP:20260425T173942
CREATED:20251222T180816Z
LAST-MODIFIED:20260112T103817Z
UID:36220-1769958000-1769965200@www.steinerschoolleuven.be
SUMMARY:Toneel klas 12A: Moord op de Oriënt Express
DESCRIPTION:Klas 12A speelt Moord op de Oriënt Express op vrijdag 30 en zaterdag 31 januari en zondag 1 februari in Steinerschool De Zonnewijzer (Privaatweg 7\, 3018 Wijgmaal).
URL:https://www.steinerschoolleuven.be/activiteit/toneel-klas-12a-01012026/
CATEGORIES:Algemeen
END:VEVENT
BEGIN:VEVENT
DTSTART;TZID=Europe/Brussels:20260206T200000
DTEND;TZID=Europe/Brussels:20260206T220000
DTSTAMP:20260425T173942
CREATED:20260205T103555Z
LAST-MODIFIED:20260205T103558Z
UID:38331-1770408000-1770415200@www.steinerschoolleuven.be
SUMMARY:'Peer Gynt' opgevoerd door klas 10B i.s.m. Collectief Theater Hart
DESCRIPTION:
URL:https://www.steinerschoolleuven.be/activiteit/peer-gynt-opgevoerd-door-klas-10b-i-s-m-collectief-theater-hart/
CATEGORIES:Algemeen
END:VEVENT
END:VCALENDAR