BEGIN:VCALENDAR
VERSION:2.0
PRODID:-//Steinerschool Leuven de Zonnewijzer - ECPv6.15.20//NONSGML v1.0//EN
CALSCALE:GREGORIAN
METHOD:PUBLISH
X-ORIGINAL-URL:https://www.steinerschoolleuven.be
X-WR-CALDESC:Evenementen voor Steinerschool Leuven de Zonnewijzer
REFRESH-INTERVAL;VALUE=DURATION:PT1H
X-Robots-Tag:noindex
X-PUBLISHED-TTL:PT1H
BEGIN:VTIMEZONE
TZID:Europe/Brussels
BEGIN:DAYLIGHT
TZOFFSETFROM:+0100
TZOFFSETTO:+0200
TZNAME:CEST
DTSTART:20250330T010000
END:DAYLIGHT
BEGIN:STANDARD
TZOFFSETFROM:+0200
TZOFFSETTO:+0100
TZNAME:CET
DTSTART:20251026T010000
END:STANDARD
BEGIN:DAYLIGHT
TZOFFSETFROM:+0100
TZOFFSETTO:+0200
TZNAME:CEST
DTSTART:20260329T010000
END:DAYLIGHT
BEGIN:STANDARD
TZOFFSETFROM:+0200
TZOFFSETTO:+0100
TZNAME:CET
DTSTART:20261025T010000
END:STANDARD
BEGIN:DAYLIGHT
TZOFFSETFROM:+0100
TZOFFSETTO:+0200
TZNAME:CEST
DTSTART:20270328T010000
END:DAYLIGHT
BEGIN:STANDARD
TZOFFSETFROM:+0200
TZOFFSETTO:+0100
TZNAME:CET
DTSTART:20271031T010000
END:STANDARD
END:VTIMEZONE
BEGIN:VEVENT
DTSTART;TZID=Europe/Brussels:20260425T170000
DTEND;TZID=Europe/Brussels:20260425T220000
DTSTAMP:20260421T135113
CREATED:20260130T140741Z
LAST-MODIFIED:20260403T120825Z
UID:38184-1777136400-1777154400@www.steinerschoolleuven.be
SUMMARY:Spaanse avond
DESCRIPTION:Op 25 april organiseert klas 12b een Spaanse avond t.v.v onze eindreis. Het wordt een avond vol lekker eten\, muziek en plezier. We zien jullie daar! 🥘🇪🇸😋 \n\n\n\n\nSchrijf je nu in!
URL:https://www.steinerschoolleuven.be/activiteit/spaanse-avond/
CATEGORIES:Algemeen
ATTACH;FMTTYPE=image/png:https://www.steinerschoolleuven.be/wp-content/uploads/Spaanse-avond-12B.png
END:VEVENT
BEGIN:VEVENT
DTSTART;TZID=Europe/Brussels:20260426T093000
DTEND;TZID=Europe/Brussels:20260426T123000
DTSTAMP:20260421T135113
CREATED:20251010T104702Z
LAST-MODIFIED:20260403T113200Z
UID:35035-1777195800-1777206600@www.steinerschoolleuven.be
SUMMARY:Ouderacademie
DESCRIPTION:
URL:https://www.steinerschoolleuven.be/activiteit/ouderacademie-8/
CATEGORIES:Algemeen
ATTACH;FMTTYPE=image/jpeg:https://www.steinerschoolleuven.be/wp-content/uploads/Ouderacademie-april-26.jpg
END:VEVENT
BEGIN:VEVENT
DTSTART;TZID=Europe/Brussels:20260501T000000
DTEND;TZID=Europe/Brussels:20260501T235959
DTSTAMP:20260421T135113
CREATED:20251128T130424Z
LAST-MODIFIED:20251128T130426Z
UID:35471-1777593600-1777679999@www.steinerschoolleuven.be
SUMMARY:Dag van de arbeid
DESCRIPTION:vrije dag voor iedereen
URL:https://www.steinerschoolleuven.be/activiteit/dag-van-de-arbeid-6/
CATEGORIES:Algemeen
END:VEVENT
BEGIN:VEVENT
DTSTART;TZID=Europe/Brussels:20260508T193000
DTEND;TZID=Europe/Brussels:20260508T220000
DTSTAMP:20260421T135113
CREATED:20260403T124418Z
LAST-MODIFIED:20260403T124420Z
UID:38529-1778268600-1778277600@www.steinerschoolleuven.be
SUMMARY:Toneelopvoering door klas 8B
DESCRIPTION:
URL:https://www.steinerschoolleuven.be/activiteit/toneelopvoering-door-klas-8b/
CATEGORIES:Algemeen
END:VEVENT
BEGIN:VEVENT
DTSTART;TZID=Europe/Brussels:20260509T000000
DTEND;TZID=Europe/Brussels:20260509T235959
DTSTAMP:20260421T135113
CREATED:20251128T130542Z
LAST-MODIFIED:20251128T130544Z
UID:35473-1778284800-1778371199@www.steinerschoolleuven.be
SUMMARY:Schoolfeest
DESCRIPTION:
URL:https://www.steinerschoolleuven.be/activiteit/schoolfeest-2/
CATEGORIES:Algemeen
END:VEVENT
BEGIN:VEVENT
DTSTART;TZID=Europe/Brussels:20260509T193000
DTEND;TZID=Europe/Brussels:20260509T213000
DTSTAMP:20260421T135113
CREATED:20260402T125745Z
LAST-MODIFIED:20260403T124650Z
UID:38491-1778355000-1778362200@www.steinerschoolleuven.be
SUMMARY:Concert klas 12
DESCRIPTION:Het concert vindt plaats in de grote zaal.
URL:https://www.steinerschoolleuven.be/activiteit/concert-klas-12-2026/
LOCATION:De Zonnewijzer\, Privaatweg 7\, Leuven\, 3018\, België
CATEGORIES:Algemeen
END:VEVENT
BEGIN:VEVENT
DTSTART;TZID=Europe/Brussels:20260514T000000
DTEND;TZID=Europe/Brussels:20260517T235959
DTSTAMP:20260421T135113
CREATED:20251128T131024Z
LAST-MODIFIED:20251128T131027Z
UID:35477-1778716800-1779062399@www.steinerschoolleuven.be
SUMMARY:Hemelvaartweekend
DESCRIPTION:
URL:https://www.steinerschoolleuven.be/activiteit/hemelvaartweekend-5/
CATEGORIES:Algemeen
END:VEVENT
BEGIN:VEVENT
DTSTART;TZID=Europe/Brussels:20260525T000000
DTEND;TZID=Europe/Brussels:20260525T235959
DTSTAMP:20260421T135113
CREATED:20251128T131851Z
LAST-MODIFIED:20251128T131853Z
UID:35487-1779667200-1779753599@www.steinerschoolleuven.be
SUMMARY:Pinkstermaandag
DESCRIPTION:vrij voor iedereen
URL:https://www.steinerschoolleuven.be/activiteit/pinkstermaandag-7/
CATEGORIES:Algemeen
END:VEVENT
BEGIN:VEVENT
DTSTART;TZID=Europe/Brussels:20260630T100000
DTEND;TZID=Europe/Brussels:20260630T120000
DTSTAMP:20260421T135113
CREATED:20251128T134159Z
LAST-MODIFIED:20251128T134202Z
UID:35506-1782813600-1782820800@www.steinerschoolleuven.be
SUMMARY:Laatste schooldag: rapport + getuigschrift
DESCRIPTION:speelklassen\, klas 1 – 6\, klassen 7 – 11
URL:https://www.steinerschoolleuven.be/activiteit/laatste-schooldag-rapport-getuigschrift/
CATEGORIES:Algemeen
END:VEVENT
BEGIN:VEVENT
DTSTART;TZID=Europe/Brussels:20260704T100000
DTEND;TZID=Europe/Brussels:20260704T170000
DTSTAMP:20260421T135113
CREATED:20251128T134508Z
LAST-MODIFIED:20251128T134754Z
UID:35508-1783159200-1783184400@www.steinerschoolleuven.be
SUMMARY:KLUS- en TUINDAG
DESCRIPTION:
URL:https://www.steinerschoolleuven.be/activiteit/klus-en-tuindag-4/
CATEGORIES:Algemeen
END:VEVENT
END:VCALENDAR