BEGIN:VCALENDAR
VERSION:2.0
PRODID:-//Steinerschool Leuven de Zonnewijzer - ECPv6.15.20//NONSGML v1.0//EN
CALSCALE:GREGORIAN
METHOD:PUBLISH
X-ORIGINAL-URL:https://www.steinerschoolleuven.be
X-WR-CALDESC:Evenementen voor Steinerschool Leuven de Zonnewijzer
REFRESH-INTERVAL;VALUE=DURATION:PT1H
X-Robots-Tag:noindex
X-PUBLISHED-TTL:PT1H
BEGIN:VTIMEZONE
TZID:Europe/Brussels
BEGIN:DAYLIGHT
TZOFFSETFROM:+0100
TZOFFSETTO:+0200
TZNAME:CEST
DTSTART:20240331T010000
END:DAYLIGHT
BEGIN:STANDARD
TZOFFSETFROM:+0200
TZOFFSETTO:+0100
TZNAME:CET
DTSTART:20241027T010000
END:STANDARD
BEGIN:DAYLIGHT
TZOFFSETFROM:+0100
TZOFFSETTO:+0200
TZNAME:CEST
DTSTART:20250330T010000
END:DAYLIGHT
BEGIN:STANDARD
TZOFFSETFROM:+0200
TZOFFSETTO:+0100
TZNAME:CET
DTSTART:20251026T010000
END:STANDARD
BEGIN:DAYLIGHT
TZOFFSETFROM:+0100
TZOFFSETTO:+0200
TZNAME:CEST
DTSTART:20260329T010000
END:DAYLIGHT
BEGIN:STANDARD
TZOFFSETFROM:+0200
TZOFFSETTO:+0100
TZNAME:CET
DTSTART:20261025T010000
END:STANDARD
END:VTIMEZONE
BEGIN:VEVENT
DTSTART;TZID=Europe/Brussels:20250924T093000
DTEND;TZID=Europe/Brussels:20250924T123000
DTSTAMP:20260424T112653
CREATED:20250912T113608Z
LAST-MODIFIED:20250912T122055Z
UID:34895-1758706200-1758717000@www.steinerschoolleuven.be
SUMMARY:Michaëlsfeest
DESCRIPTION:voor peuter- en speelklassen in het Begijnenbos op de Kesselberg
URL:https://www.steinerschoolleuven.be/activiteit/michaelsfeest-4/
CATEGORIES:Basisschool
END:VEVENT
BEGIN:VEVENT
DTSTART;TZID=Europe/Brussels:20250925T193000
DTEND;TZID=Europe/Brussels:20250925T220000
DTSTAMP:20260424T112653
CREATED:20250912T111441Z
LAST-MODIFIED:20250912T111444Z
UID:34893-1758828600-1758837600@www.steinerschoolleuven.be
SUMMARY:Rode speelklas ouderavond
DESCRIPTION:
URL:https://www.steinerschoolleuven.be/activiteit/rode-speelklas-ouderavond/
CATEGORIES:Basisschool
END:VEVENT
BEGIN:VEVENT
DTSTART;TZID=Europe/Brussels:20250926T000000
DTEND;TZID=Europe/Brussels:20250926T235959
DTSTAMP:20260424T112653
CREATED:20250905T115450Z
LAST-MODIFIED:20250912T122626Z
UID:34838-1758844800-1758931199@www.steinerschoolleuven.be
SUMMARY:Michaëlsfeest
DESCRIPTION:Klas 1 – 6 in Lindenbos
URL:https://www.steinerschoolleuven.be/activiteit/michaelsfeest-3/
CATEGORIES:Basisschool
END:VEVENT
END:VCALENDAR