BEGIN:VCALENDAR
VERSION:2.0
PRODID:-//Steinerschool Leuven de Zonnewijzer - ECPv6.15.20//NONSGML v1.0//EN
CALSCALE:GREGORIAN
METHOD:PUBLISH
X-WR-CALNAME:Steinerschool Leuven de Zonnewijzer
X-ORIGINAL-URL:https://www.steinerschoolleuven.be
X-WR-CALDESC:Evenementen voor Steinerschool Leuven de Zonnewijzer
REFRESH-INTERVAL;VALUE=DURATION:PT1H
X-Robots-Tag:noindex
X-PUBLISHED-TTL:PT1H
BEGIN:VTIMEZONE
TZID:Europe/Brussels
BEGIN:DAYLIGHT
TZOFFSETFROM:+0100
TZOFFSETTO:+0200
TZNAME:CEST
DTSTART:20240331T010000
END:DAYLIGHT
BEGIN:STANDARD
TZOFFSETFROM:+0200
TZOFFSETTO:+0100
TZNAME:CET
DTSTART:20241027T010000
END:STANDARD
BEGIN:DAYLIGHT
TZOFFSETFROM:+0100
TZOFFSETTO:+0200
TZNAME:CEST
DTSTART:20250330T010000
END:DAYLIGHT
BEGIN:STANDARD
TZOFFSETFROM:+0200
TZOFFSETTO:+0100
TZNAME:CET
DTSTART:20251026T010000
END:STANDARD
BEGIN:DAYLIGHT
TZOFFSETFROM:+0100
TZOFFSETTO:+0200
TZNAME:CEST
DTSTART:20260329T010000
END:DAYLIGHT
BEGIN:STANDARD
TZOFFSETFROM:+0200
TZOFFSETTO:+0100
TZNAME:CET
DTSTART:20261025T010000
END:STANDARD
END:VTIMEZONE
BEGIN:VEVENT
DTSTART;TZID=Europe/Brussels:20251107T170000
DTEND;TZID=Europe/Brussels:20251107T200000
DTSTAMP:20260422T032014
CREATED:20250905T123316Z
LAST-MODIFIED:20250905T123318Z
UID:34863-1762534800-1762545600@www.steinerschoolleuven.be
SUMMARY:Sint Maartensfeest
DESCRIPTION:Speelklassen\, klas 1 – 6
URL:https://www.steinerschoolleuven.be/activiteit/sint-maartensfeest/
CATEGORIES:Basisschool
END:VEVENT
BEGIN:VEVENT
DTSTART;TZID=Europe/Brussels:20251117T190000
DTEND;TZID=Europe/Brussels:20251117T210000
DTSTAMP:20260422T032014
CREATED:20251107T122202Z
LAST-MODIFIED:20251107T141729Z
UID:35108-1763406000-1763413200@www.steinerschoolleuven.be
SUMMARY:Ssst! Grote knutselavond in alle speelklassen Ssst!
DESCRIPTION:
URL:https://www.steinerschoolleuven.be/activiteit/grote-knutselavond-in-alle-speelklassen/
CATEGORIES:Basisschool
END:VEVENT
BEGIN:VEVENT
DTSTART;TZID=Europe/Brussels:20251125T000000
DTEND;TZID=Europe/Brussels:20251125T235959
DTSTAMP:20260422T032014
CREATED:20250919T104618Z
LAST-MODIFIED:20251017T112025Z
UID:34926-1764028800-1764115199@www.steinerschoolleuven.be
SUMMARY:Oudercontact
DESCRIPTION:speelklassen en klas 1 – 6
URL:https://www.steinerschoolleuven.be/activiteit/oudercontact/
CATEGORIES:Basisschool
END:VEVENT
END:VCALENDAR