BEGIN:VCALENDAR
VERSION:2.0
PRODID:-//Steinerschool Leuven de Zonnewijzer - ECPv6.15.20//NONSGML v1.0//EN
CALSCALE:GREGORIAN
METHOD:PUBLISH
X-WR-CALNAME:Steinerschool Leuven de Zonnewijzer
X-ORIGINAL-URL:https://www.steinerschoolleuven.be
X-WR-CALDESC:Evenementen voor Steinerschool Leuven de Zonnewijzer
REFRESH-INTERVAL;VALUE=DURATION:PT1H
X-Robots-Tag:noindex
X-PUBLISHED-TTL:PT1H
BEGIN:VTIMEZONE
TZID:Europe/Brussels
BEGIN:DAYLIGHT
TZOFFSETFROM:+0100
TZOFFSETTO:+0200
TZNAME:CEST
DTSTART:20250330T010000
END:DAYLIGHT
BEGIN:STANDARD
TZOFFSETFROM:+0200
TZOFFSETTO:+0100
TZNAME:CET
DTSTART:20251026T010000
END:STANDARD
BEGIN:DAYLIGHT
TZOFFSETFROM:+0100
TZOFFSETTO:+0200
TZNAME:CEST
DTSTART:20260329T010000
END:DAYLIGHT
BEGIN:STANDARD
TZOFFSETFROM:+0200
TZOFFSETTO:+0100
TZNAME:CET
DTSTART:20261025T010000
END:STANDARD
BEGIN:DAYLIGHT
TZOFFSETFROM:+0100
TZOFFSETTO:+0200
TZNAME:CEST
DTSTART:20270328T010000
END:DAYLIGHT
BEGIN:STANDARD
TZOFFSETFROM:+0200
TZOFFSETTO:+0100
TZNAME:CET
DTSTART:20271031T010000
END:STANDARD
END:VTIMEZONE
BEGIN:VEVENT
DTSTART;TZID=Europe/Brussels:20260311T000000
DTEND;TZID=Europe/Brussels:20260311T235959
DTSTAMP:20260422T032256
CREATED:20251107T142422Z
LAST-MODIFIED:20251107T144501Z
UID:35118-1773187200-1773273599@www.steinerschoolleuven.be
SUMMARY:Pedagogische studiedag Basisschool
DESCRIPTION:
URL:https://www.steinerschoolleuven.be/activiteit/pedagogische-studiedag-basisschool-2/
CATEGORIES:Basisschool
END:VEVENT
BEGIN:VEVENT
DTSTART;TZID=Europe/Brussels:20260312T000000
DTEND;TZID=Europe/Brussels:20260312T235959
DTSTAMP:20260422T032256
CREATED:20251107T142548Z
LAST-MODIFIED:20251107T142551Z
UID:35120-1773273600-1773359999@www.steinerschoolleuven.be
SUMMARY:Individueel oudercontact speelklassen en lagere school
DESCRIPTION:
URL:https://www.steinerschoolleuven.be/activiteit/individueel-oudercontact-speelklassen-en-lagere-school/
CATEGORIES:Basisschool
END:VEVENT
BEGIN:VEVENT
DTSTART;TZID=Europe/Brussels:20260325T190000
DTEND;TZID=Europe/Brussels:20260325T220000
DTSTAMP:20260422T032256
CREATED:20260313T103416Z
LAST-MODIFIED:20260313T103419Z
UID:38469-1774465200-1774476000@www.steinerschoolleuven.be
SUMMARY:Klas 3 ouderavond
DESCRIPTION:om 19u verzamelen\, om 19u30 starten
URL:https://www.steinerschoolleuven.be/activiteit/klas-3-ouderavond-5/
CATEGORIES:Basisschool
END:VEVENT
BEGIN:VEVENT
DTSTART;TZID=Europe/Brussels:20260327T000000
DTEND;TZID=Europe/Brussels:20260327T235959
DTSTAMP:20260422T032256
CREATED:20260313T103216Z
LAST-MODIFIED:20260313T103219Z
UID:38467-1774569600-1774655999@www.steinerschoolleuven.be
SUMMARY:Klas 3 gaat naar het ABC-huis in Brussel
DESCRIPTION:
URL:https://www.steinerschoolleuven.be/activiteit/klas-3-gaat-naar-het-abc-huis-in-brussel/
CATEGORIES:Basisschool
END:VEVENT
BEGIN:VEVENT
DTSTART;TZID=Europe/Brussels:20260401T090000
DTEND;TZID=Europe/Brussels:20260401T123000
DTSTAMP:20260422T032256
CREATED:20251107T143443Z
LAST-MODIFIED:20251107T143445Z
UID:35131-1775034000-1775046600@www.steinerschoolleuven.be
SUMMARY:Palmpasen speelklassen
DESCRIPTION:
URL:https://www.steinerschoolleuven.be/activiteit/palmpasen-speelklassen/
CATEGORIES:Basisschool
END:VEVENT
BEGIN:VEVENT
DTSTART;TZID=Europe/Brussels:20260402T091500
DTEND;TZID=Europe/Brussels:20260402T103000
DTSTAMP:20260422T032256
CREATED:20260327T094407Z
LAST-MODIFIED:20260327T094410Z
UID:38485-1775121300-1775125800@www.steinerschoolleuven.be
SUMMARY:'Ronja de roversdochter' opgevoerd door klas 4
DESCRIPTION:ouders en grootouders welkom!
URL:https://www.steinerschoolleuven.be/activiteit/ronja-de-roversdochter-opgevoerd-door-klas-4/
CATEGORIES:Basisschool
END:VEVENT
BEGIN:VEVENT
DTSTART;TZID=Europe/Brussels:20260403T133000
DTEND;TZID=Europe/Brussels:20260403T150000
DTSTAMP:20260422T032256
CREATED:20251107T143600Z
LAST-MODIFIED:20251107T143602Z
UID:35133-1775223000-1775228400@www.steinerschoolleuven.be
SUMMARY:Palmpasen klas 1 - 6
DESCRIPTION:
URL:https://www.steinerschoolleuven.be/activiteit/palmpasen-klas-1-6/
CATEGORIES:Basisschool
END:VEVENT
BEGIN:VEVENT
DTSTART;TZID=Europe/Brussels:20260519T000000
DTEND;TZID=Europe/Brussels:20260519T235959
DTSTAMP:20260422T032256
CREATED:20260306T121845Z
LAST-MODIFIED:20260306T121848Z
UID:38453-1779148800-1779235199@www.steinerschoolleuven.be
SUMMARY:Vijfkamp voor klas 5 uit Leuven\, Tervuren en Anderlecht
DESCRIPTION:We trekken dan met de fiets naar het Koning Boudewijnstadion in Kessel-Lo. Daar geven de kinderen het beste van zichzelf in loop-\, sprint- en werpnummers.
URL:https://www.steinerschoolleuven.be/activiteit/vijfkamp-voor-klas-5-uit-leuven-tervuren-en-anderlecht/
CATEGORIES:Basisschool
END:VEVENT
BEGIN:VEVENT
DTSTART;TZID=Europe/Brussels:20260522T000000
DTEND;TZID=Europe/Brussels:20260522T235959
DTSTAMP:20260422T032256
CREATED:20251128T131716Z
LAST-MODIFIED:20251128T131718Z
UID:35485-1779408000-1779494399@www.steinerschoolleuven.be
SUMMARY:Pinksterfeest
DESCRIPTION:Speelklassen\, klas 1 – 6
URL:https://www.steinerschoolleuven.be/activiteit/pinksterfeest-2/
CATEGORIES:Basisschool
END:VEVENT
BEGIN:VEVENT
DTSTART;TZID=Europe/Brussels:20260612T000000
DTEND;TZID=Europe/Brussels:20260612T235959
DTSTAMP:20260422T032256
CREATED:20251128T132629Z
LAST-MODIFIED:20251128T132632Z
UID:35490-1781222400-1781308799@www.steinerschoolleuven.be
SUMMARY:Vrije dag voor speelklassen en klas 1 - 6
DESCRIPTION:
URL:https://www.steinerschoolleuven.be/activiteit/vrije-dag-voor-speelklassen-en-klas-1-6/
CATEGORIES:Basisschool
END:VEVENT
BEGIN:VEVENT
DTSTART;TZID=Europe/Brussels:20260619T180000
DTEND;TZID=Europe/Brussels:20260619T220000
DTSTAMP:20260422T032256
CREATED:20251128T133437Z
LAST-MODIFIED:20251128T133440Z
UID:35498-1781892000-1781906400@www.steinerschoolleuven.be
SUMMARY:Sint-Jansfeest
DESCRIPTION:klas 1 – 6
URL:https://www.steinerschoolleuven.be/activiteit/sint-jansfeest-4/
CATEGORIES:Basisschool
END:VEVENT
BEGIN:VEVENT
DTSTART;TZID=Europe/Brussels:20260624T090000
DTEND;TZID=Europe/Brussels:20260624T120000
DTSTAMP:20260422T032256
CREATED:20251128T133622Z
LAST-MODIFIED:20251128T133624Z
UID:35500-1782291600-1782302400@www.steinerschoolleuven.be
SUMMARY:Sint-Jansfeest
DESCRIPTION:speelklassen
URL:https://www.steinerschoolleuven.be/activiteit/sint-jansfeest-5/
CATEGORIES:Basisschool
END:VEVENT
END:VCALENDAR