BEGIN:VCALENDAR
VERSION:2.0
PRODID:-//Steinerschool Leuven de Zonnewijzer - ECPv6.15.20//NONSGML v1.0//EN
CALSCALE:GREGORIAN
METHOD:PUBLISH
X-WR-CALNAME:Steinerschool Leuven de Zonnewijzer
X-ORIGINAL-URL:https://www.steinerschoolleuven.be
X-WR-CALDESC:Evenementen voor Steinerschool Leuven de Zonnewijzer
REFRESH-INTERVAL;VALUE=DURATION:PT1H
X-Robots-Tag:noindex
X-PUBLISHED-TTL:PT1H
BEGIN:VTIMEZONE
TZID:Europe/Brussels
BEGIN:DAYLIGHT
TZOFFSETFROM:+0100
TZOFFSETTO:+0200
TZNAME:CEST
DTSTART:20240331T010000
END:DAYLIGHT
BEGIN:STANDARD
TZOFFSETFROM:+0200
TZOFFSETTO:+0100
TZNAME:CET
DTSTART:20241027T010000
END:STANDARD
BEGIN:DAYLIGHT
TZOFFSETFROM:+0100
TZOFFSETTO:+0200
TZNAME:CEST
DTSTART:20250330T010000
END:DAYLIGHT
BEGIN:STANDARD
TZOFFSETFROM:+0200
TZOFFSETTO:+0100
TZNAME:CET
DTSTART:20251026T010000
END:STANDARD
BEGIN:DAYLIGHT
TZOFFSETFROM:+0100
TZOFFSETTO:+0200
TZNAME:CEST
DTSTART:20260329T010000
END:DAYLIGHT
BEGIN:STANDARD
TZOFFSETFROM:+0200
TZOFFSETTO:+0100
TZNAME:CET
DTSTART:20261025T010000
END:STANDARD
END:VTIMEZONE
BEGIN:VEVENT
DTSTART;TZID=Europe/Brussels:20250625T090000
DTEND;TZID=Europe/Brussels:20250625T123000
DTSTAMP:20260422T000611
CREATED:20250228T141806Z
LAST-MODIFIED:20250228T141808Z
UID:33420-1750842000-1750854600@www.steinerschoolleuven.be
SUMMARY:Sint-Jansfeest
DESCRIPTION:speelklassen
URL:https://www.steinerschoolleuven.be/activiteit/sint-jansfeest-3/
CATEGORIES:Basisschool
END:VEVENT
BEGIN:VEVENT
DTSTART;TZID=Europe/Brussels:20250624T000000
DTEND;TZID=Europe/Brussels:20250624T235959
DTSTAMP:20260422T000611
CREATED:20250606T115348Z
LAST-MODIFIED:20250620T112746Z
UID:33915-1750723200-1750809599@www.steinerschoolleuven.be
SUMMARY:Klas 1 uitstap naar 't Zoet Water'
DESCRIPTION:
URL:https://www.steinerschoolleuven.be/activiteit/klas-1-gaat-op-schoolreis/
CATEGORIES:Basisschool
END:VEVENT
BEGIN:VEVENT
DTSTART;TZID=Europe/Brussels:20250620T180000
DTEND;TZID=Europe/Brussels:20250620T220000
DTSTAMP:20260422T000611
CREATED:20250228T141458Z
LAST-MODIFIED:20250228T141501Z
UID:33416-1750442400-1750456800@www.steinerschoolleuven.be
SUMMARY:Sint-Jansfeest
DESCRIPTION:klas 1 – 6
URL:https://www.steinerschoolleuven.be/activiteit/sint-jansfeest/
CATEGORIES:Basisschool
END:VEVENT
BEGIN:VEVENT
DTSTART;TZID=Europe/Brussels:20250616T000000
DTEND;TZID=Europe/Brussels:20250616T235959
DTSTAMP:20260422T000611
CREATED:20250523T111710Z
LAST-MODIFIED:20250523T111712Z
UID:33754-1750032000-1750118399@www.steinerschoolleuven.be
SUMMARY:Paarse speelklas uitstap naar de Kesselberg en het provinciedomein van Kessel-Lo
DESCRIPTION:
URL:https://www.steinerschoolleuven.be/activiteit/paarse-speelklas-uitstap-naar-de-kesselberg-en-het-provinciedomein-van-kessel-lo/
CATEGORIES:Basisschool
END:VEVENT
BEGIN:VEVENT
DTSTART;TZID=Europe/Brussels:20250613T000000
DTEND;TZID=Europe/Brussels:20250613T235959
DTSTAMP:20260422T000611
CREATED:20250425T105543Z
LAST-MODIFIED:20250425T105545Z
UID:33616-1749772800-1749859199@www.steinerschoolleuven.be
SUMMARY:Klas 3 bezoek aan de Botermolen in Keerbergen
DESCRIPTION:
URL:https://www.steinerschoolleuven.be/activiteit/klas-3-bezoek-aan-de-botermolen-in-keerbergen/
CATEGORIES:Basisschool
END:VEVENT
BEGIN:VEVENT
DTSTART;TZID=Europe/Brussels:20250612T000000
DTEND;TZID=Europe/Brussels:20250612T235959
DTSTAMP:20260422T000611
CREATED:20250509T092431Z
LAST-MODIFIED:20250606T095436Z
UID:33649-1749686400-1749772799@www.steinerschoolleuven.be
SUMMARY:‘Gebracht door de bliksem’ door klas 5
DESCRIPTION:om 9u15 en 13u30.Ouders en familie\, kortom alle klas-5-verbondenen\, zijn op beide voorstellingen welkom.
URL:https://www.steinerschoolleuven.be/activiteit/het-oinkbeest-door-klas-5/
CATEGORIES:Basisschool
END:VEVENT
BEGIN:VEVENT
DTSTART;TZID=Europe/Brussels:20250606T000000
DTEND;TZID=Europe/Brussels:20250606T235959
DTSTAMP:20260422T000611
CREATED:20250207T154220Z
LAST-MODIFIED:20250207T154331Z
UID:32678-1749168000-1749254399@www.steinerschoolleuven.be
SUMMARY:Pinksterfeest
DESCRIPTION:peuters\, kleuters\, klas 1 – 6
URL:https://www.steinerschoolleuven.be/activiteit/pinksterfeest/
CATEGORIES:Basisschool
END:VEVENT
BEGIN:VEVENT
DTSTART;TZID=Europe/Brussels:20250605T000000
DTEND;TZID=Europe/Brussels:20250605T235959
DTSTAMP:20260422T000611
CREATED:20250523T112140Z
LAST-MODIFIED:20250523T114214Z
UID:33756-1749081600-1749167999@www.steinerschoolleuven.be
SUMMARY:Klas 2 bijendag aan de molen van Rotselaar
DESCRIPTION:met de fiets
URL:https://www.steinerschoolleuven.be/activiteit/klas-2-met-de-fiets-naar-de-molen-van-rotselaar-voor-een-bijendagje/
CATEGORIES:Basisschool
END:VEVENT
BEGIN:VEVENT
DTSTART;TZID=Europe/Brussels:20250603T000000
DTEND;TZID=Europe/Brussels:20250603T235959
DTSTAMP:20260422T000611
CREATED:20250523T111547Z
LAST-MODIFIED:20250523T111549Z
UID:33752-1748908800-1748995199@www.steinerschoolleuven.be
SUMMARY:Oranje en rode speelklas uitstap naar het provinciedomein van Kessel-Lo
DESCRIPTION:
URL:https://www.steinerschoolleuven.be/activiteit/oranje-en-rode-speelklas-uitstap-naar-het-provinciedomein-van-kessel-lo/
CATEGORIES:Basisschool
END:VEVENT
BEGIN:VEVENT
DTSTART;TZID=Europe/Brussels:20250527T000000
DTEND;TZID=Europe/Brussels:20250527T235959
DTSTAMP:20260422T000611
CREATED:20250516T115731Z
LAST-MODIFIED:20250523T111444Z
UID:33699-1748304000-1748390399@www.steinerschoolleuven.be
SUMMARY:Oranje en rode speelklas uitstap naar het provinciedomein van Kessel-Lo
DESCRIPTION:OPGELET: deze uitstap wordt uitgesteld naar dinsdag 3 juni!
URL:https://www.steinerschoolleuven.be/activiteit/oranje-en-rode-speelklas-op-uitstap-naar-het-provinciedomein-van-kessel-lo/
CATEGORIES:Basisschool
END:VEVENT
BEGIN:VEVENT
DTSTART;TZID=Europe/Brussels:20250527T000000
DTEND;TZID=Europe/Brussels:20250527T235959
DTSTAMP:20260422T000611
CREATED:20250509T092610Z
LAST-MODIFIED:20250509T092612Z
UID:33651-1748304000-1748390399@www.steinerschoolleuven.be
SUMMARY:Klas 5 vijfkamp in Kessel-Lo
DESCRIPTION:samen met klas 5 van Anderlecht en Tervuren
URL:https://www.steinerschoolleuven.be/activiteit/klas-5-vijfkamp-in-kessel-lo/
CATEGORIES:Basisschool
END:VEVENT
BEGIN:VEVENT
DTSTART;TZID=Europe/Brussels:20250526T000000
DTEND;TZID=Europe/Brussels:20250526T235959
DTSTAMP:20260422T000611
CREATED:20250509T090111Z
LAST-MODIFIED:20250509T090113Z
UID:33643-1748217600-1748303999@www.steinerschoolleuven.be
SUMMARY:Klas 6 schoolreis naar Bérismenil
DESCRIPTION:
URL:https://www.steinerschoolleuven.be/activiteit/klas-6-schoolreis-naar-berismenil/
CATEGORIES:Basisschool
END:VEVENT
BEGIN:VEVENT
DTSTART;TZID=Europe/Brussels:20250521T000000
DTEND;TZID=Europe/Brussels:20250521T235959
DTSTAMP:20260422T000611
CREATED:20250509T085441Z
LAST-MODIFIED:20250509T111739Z
UID:33641-1747785600-1747871999@www.steinerschoolleuven.be
SUMMARY:Klas 6 fietsexamen in Wijgmaal
DESCRIPTION:
URL:https://www.steinerschoolleuven.be/activiteit/klas-6-fietsexamen-in-wijgmaal/
CATEGORIES:Basisschool
END:VEVENT
BEGIN:VEVENT
DTSTART;TZID=Europe/Brussels:20250516T093000
DTEND;TZID=Europe/Brussels:20250516T103000
DTSTAMP:20260422T000611
CREATED:20250425T114855Z
LAST-MODIFIED:20250425T114858Z
UID:33627-1747387800-1747391400@www.steinerschoolleuven.be
SUMMARY:'De Lentefee' door klas 1
DESCRIPTION:voor ouders en familie
URL:https://www.steinerschoolleuven.be/activiteit/de-lentefee-door-klas-1/
CATEGORIES:Basisschool
END:VEVENT
BEGIN:VEVENT
DTSTART;TZID=Europe/Brussels:20250516T000000
DTEND;TZID=Europe/Brussels:20250516T235959
DTSTAMP:20260422T000611
CREATED:20250509T091859Z
LAST-MODIFIED:20250509T130129Z
UID:33645-1747353600-1747439999@www.steinerschoolleuven.be
SUMMARY:Klas 2 uitstap met de fiets naar het provinciedomein
DESCRIPTION:
URL:https://www.steinerschoolleuven.be/activiteit/klas-2-uitstap-met-de-fiets-naar-het-provincie-domein/
CATEGORIES:Basisschool
END:VEVENT
BEGIN:VEVENT
DTSTART;TZID=Europe/Brussels:20250516T000000
DTEND;TZID=Europe/Brussels:20250516T235959
DTSTAMP:20260422T000611
CREATED:20250425T105409Z
LAST-MODIFIED:20250425T105411Z
UID:33614-1747353600-1747439999@www.steinerschoolleuven.be
SUMMARY:Klas 3 bezoek aan het Nijswolkje in Aarschot
DESCRIPTION:
URL:https://www.steinerschoolleuven.be/activiteit/klas-3-bezoek-aan-het-nijswolkje-in-aarschot/
CATEGORIES:Basisschool
END:VEVENT
BEGIN:VEVENT
DTSTART;TZID=Europe/Brussels:20250515T190000
DTEND;TZID=Europe/Brussels:20250515T220000
DTSTAMP:20260422T000611
CREATED:20250502T111637Z
LAST-MODIFIED:20250502T113841Z
UID:33633-1747335600-1747346400@www.steinerschoolleuven.be
SUMMARY:Ouderavond rond schoolrijpheid
DESCRIPTION:Als spreker verwelkomen we Dr Nicola De Cono\, antroposofisch arts. Ouders van peuters\, kleuters\, lagere schoolkinderen… alle geïnteresseerden zijn welkom! De avond begint om 19u\, zo kan iedereen rustig aankomen en een plekje vinden. Onze spreker start om 19.30 stipt.
URL:https://www.steinerschoolleuven.be/activiteit/ouderavond-rond-schoolrijpheid/
CATEGORIES:Basisschool
END:VEVENT
BEGIN:VEVENT
DTSTART;TZID=Europe/Brussels:20250513T000000
DTEND;TZID=Europe/Brussels:20250513T235959
DTSTAMP:20260422T000611
CREATED:20250509T092919Z
LAST-MODIFIED:20250509T092921Z
UID:33653-1747094400-1747180799@www.steinerschoolleuven.be
SUMMARY:Klas 4 uitstap naar Planckendael
DESCRIPTION:terug op school om 16u
URL:https://www.steinerschoolleuven.be/activiteit/klas-4-uitstap-naar-planckendael/
CATEGORIES:Basisschool
END:VEVENT
BEGIN:VEVENT
DTSTART;TZID=Europe/Brussels:20250509T090000
DTEND;TZID=Europe/Brussels:20250509T103000
DTSTAMP:20260422T000611
CREATED:20250425T105145Z
LAST-MODIFIED:20250425T105147Z
UID:33612-1746781200-1746786600@www.steinerschoolleuven.be
SUMMARY:'Een heel gewone marktdag' door klas 3
DESCRIPTION:voor (groot)ouders en familie
URL:https://www.steinerschoolleuven.be/activiteit/een-heel-gewone-marktdag-door-klas-3/
CATEGORIES:Basisschool
END:VEVENT
BEGIN:VEVENT
DTSTART;TZID=Europe/Brussels:20250508T000000
DTEND;TZID=Europe/Brussels:20250508T235959
DTSTAMP:20260422T000611
CREATED:20250425T114722Z
LAST-MODIFIED:20250425T114724Z
UID:33625-1746662400-1746748799@www.steinerschoolleuven.be
SUMMARY:Klas 1 uitstap 'Leuven leert van buiten'
DESCRIPTION:
URL:https://www.steinerschoolleuven.be/activiteit/klas-1-uitstap-leuven-leert-van-buiten/
CATEGORIES:Basisschool
END:VEVENT
BEGIN:VEVENT
DTSTART;TZID=Europe/Brussels:20250502T000000
DTEND;TZID=Europe/Brussels:20250502T235959
DTSTAMP:20260422T000611
CREATED:20250207T151037Z
LAST-MODIFIED:20250207T151039Z
UID:32646-1746144000-1746230399@www.steinerschoolleuven.be
SUMMARY:Studiedag voor de leraren van de basisschool
DESCRIPTION:vrij voor peuters\, kleuters\, leerlingen van klas 1 – 6
URL:https://www.steinerschoolleuven.be/activiteit/studiedag-voor-de-leraren-van-de-basisschool/
CATEGORIES:Basisschool
END:VEVENT
BEGIN:VEVENT
DTSTART;TZID=Europe/Brussels:20250429T190000
DTEND;TZID=Europe/Brussels:20250429T213000
DTSTAMP:20260422T000611
CREATED:20250425T114454Z
LAST-MODIFIED:20250425T114456Z
UID:33623-1745953200-1745962200@www.steinerschoolleuven.be
SUMMARY:Klas 1 ouderavond
DESCRIPTION:
URL:https://www.steinerschoolleuven.be/activiteit/klas-1-ouderavond-2/
CATEGORIES:Basisschool
END:VEVENT
BEGIN:VEVENT
DTSTART;TZID=Europe/Brussels:20250404T133000
DTEND;TZID=Europe/Brussels:20250404T150000
DTSTAMP:20260422T000611
CREATED:20241122T113044Z
LAST-MODIFIED:20241122T113737Z
UID:32007-1743773400-1743778800@www.steinerschoolleuven.be
SUMMARY:Palmpasenfeest lagere school
DESCRIPTION:
URL:https://www.steinerschoolleuven.be/activiteit/palmpasenfeest/
CATEGORIES:Basisschool
END:VEVENT
BEGIN:VEVENT
DTSTART;TZID=Europe/Brussels:20250403T190000
DTEND;TZID=Europe/Brussels:20250403T220000
DTSTAMP:20260422T000611
CREATED:20250314T110134Z
LAST-MODIFIED:20250314T110136Z
UID:33439-1743706800-1743717600@www.steinerschoolleuven.be
SUMMARY:'De tovenaar van Oz' door klas 6
DESCRIPTION:Ouders\, familie\, vrienden welkom!
URL:https://www.steinerschoolleuven.be/activiteit/de-tovenaar-van-oz-door-klas-6/
CATEGORIES:Basisschool
END:VEVENT
BEGIN:VEVENT
DTSTART;TZID=Europe/Brussels:20250402T090000
DTEND;TZID=Europe/Brussels:20250402T130000
DTSTAMP:20260422T000611
CREATED:20241122T112901Z
LAST-MODIFIED:20241122T113812Z
UID:32004-1743584400-1743598800@www.steinerschoolleuven.be
SUMMARY:Palmpasenfeest speelklassen
DESCRIPTION:
URL:https://www.steinerschoolleuven.be/activiteit/palmpasenfeest-van-de-speelklassen/
CATEGORIES:Basisschool
END:VEVENT
BEGIN:VEVENT
DTSTART;TZID=Europe/Brussels:20250328T080000
DTEND;TZID=Europe/Brussels:20250328T153000
DTSTAMP:20260422T000611
CREATED:20250220T114010Z
LAST-MODIFIED:20250220T114141Z
UID:33171-1743148800-1743175800@www.steinerschoolleuven.be
SUMMARY:Klas 3 gaat naar Art Basics for Children in Brussel
DESCRIPTION:Afspraak om 8u stipt aan het station van Wijgmaal\, terug om 15u30.
URL:https://www.steinerschoolleuven.be/activiteit/klas-3-gaat-naar-art-basics-for-children-in-brussel/
CATEGORIES:Basisschool
END:VEVENT
BEGIN:VEVENT
DTSTART;TZID=Europe/Brussels:20250320T000000
DTEND;TZID=Europe/Brussels:20250320T235959
DTSTAMP:20260422T000611
CREATED:20241122T112108Z
LAST-MODIFIED:20241122T112110Z
UID:31996-1742428800-1742515199@www.steinerschoolleuven.be
SUMMARY:Individueel oudercontact klas 1 - 6
DESCRIPTION:
URL:https://www.steinerschoolleuven.be/activiteit/individueel-oudercontact-klas-1-6/
CATEGORIES:Basisschool
END:VEVENT
BEGIN:VEVENT
DTSTART;TZID=Europe/Brussels:20250227T190000
DTEND;TZID=Europe/Brussels:20250227T220000
DTSTAMP:20260422T000611
CREATED:20250117T124548Z
LAST-MODIFIED:20250214T103523Z
UID:32275-1740682800-1740693600@www.steinerschoolleuven.be
SUMMARY:Klas 4 ouderavond wordt uitgesteld naar een latere datum
DESCRIPTION:
URL:https://www.steinerschoolleuven.be/activiteit/klas-4-ouderavond-2/
CATEGORIES:Basisschool
END:VEVENT
BEGIN:VEVENT
DTSTART;TZID=Europe/Brussels:20250225T190000
DTEND;TZID=Europe/Brussels:20250225T210000
DTSTAMP:20260422T000611
CREATED:20250207T115048Z
LAST-MODIFIED:20250207T115052Z
UID:32637-1740510000-1740517200@www.steinerschoolleuven.be
SUMMARY:Klas 6 ouderavond
DESCRIPTION:
URL:https://www.steinerschoolleuven.be/activiteit/klas-6-ouderavond-3/
CATEGORIES:Basisschool
END:VEVENT
BEGIN:VEVENT
DTSTART;TZID=Europe/Brussels:20250221T090000
DTEND;TZID=Europe/Brussels:20250221T110000
DTSTAMP:20260422T000611
CREATED:20250131T142322Z
LAST-MODIFIED:20250131T142325Z
UID:32333-1740128400-1740135600@www.steinerschoolleuven.be
SUMMARY:'Ronja de roversdochter' door klas 4
DESCRIPTION:voor ouders en familie
URL:https://www.steinerschoolleuven.be/activiteit/ronja-de-roversdochter-door-klas-4/
CATEGORIES:Basisschool
END:VEVENT
END:VCALENDAR