BEGIN:VCALENDAR
VERSION:2.0
PRODID:-//Steinerschool Leuven de Zonnewijzer - ECPv6.15.20//NONSGML v1.0//EN
CALSCALE:GREGORIAN
METHOD:PUBLISH
X-WR-CALNAME:Steinerschool Leuven de Zonnewijzer
X-ORIGINAL-URL:https://www.steinerschoolleuven.be
X-WR-CALDESC:Evenementen voor Steinerschool Leuven de Zonnewijzer
REFRESH-INTERVAL;VALUE=DURATION:PT1H
X-Robots-Tag:noindex
X-PUBLISHED-TTL:PT1H
BEGIN:VTIMEZONE
TZID:Europe/Brussels
BEGIN:DAYLIGHT
TZOFFSETFROM:+0100
TZOFFSETTO:+0200
TZNAME:CEST
DTSTART:20230326T010000
END:DAYLIGHT
BEGIN:STANDARD
TZOFFSETFROM:+0200
TZOFFSETTO:+0100
TZNAME:CET
DTSTART:20231029T010000
END:STANDARD
BEGIN:DAYLIGHT
TZOFFSETFROM:+0100
TZOFFSETTO:+0200
TZNAME:CEST
DTSTART:20240331T010000
END:DAYLIGHT
BEGIN:STANDARD
TZOFFSETFROM:+0200
TZOFFSETTO:+0100
TZNAME:CET
DTSTART:20241027T010000
END:STANDARD
BEGIN:DAYLIGHT
TZOFFSETFROM:+0100
TZOFFSETTO:+0200
TZNAME:CEST
DTSTART:20250330T010000
END:DAYLIGHT
BEGIN:STANDARD
TZOFFSETFROM:+0200
TZOFFSETTO:+0100
TZNAME:CET
DTSTART:20251026T010000
END:STANDARD
BEGIN:DAYLIGHT
TZOFFSETFROM:+0100
TZOFFSETTO:+0200
TZNAME:CEST
DTSTART:20260329T010000
END:DAYLIGHT
BEGIN:STANDARD
TZOFFSETFROM:+0200
TZOFFSETTO:+0100
TZNAME:CET
DTSTART:20261025T010000
END:STANDARD
END:VTIMEZONE
BEGIN:VEVENT
DTSTART;TZID=Europe/Brussels:20250328T080000
DTEND;TZID=Europe/Brussels:20250328T153000
DTSTAMP:20260422T032110
CREATED:20250220T114010Z
LAST-MODIFIED:20250220T114141Z
UID:33171-1743148800-1743175800@www.steinerschoolleuven.be
SUMMARY:Klas 3 gaat naar Art Basics for Children in Brussel
DESCRIPTION:Afspraak om 8u stipt aan het station van Wijgmaal\, terug om 15u30.
URL:https://www.steinerschoolleuven.be/activiteit/klas-3-gaat-naar-art-basics-for-children-in-brussel/
CATEGORIES:Basisschool
END:VEVENT
BEGIN:VEVENT
DTSTART;TZID=Europe/Brussels:20250320T000000
DTEND;TZID=Europe/Brussels:20250320T235959
DTSTAMP:20260422T032110
CREATED:20241122T112108Z
LAST-MODIFIED:20241122T112110Z
UID:31996-1742428800-1742515199@www.steinerschoolleuven.be
SUMMARY:Individueel oudercontact klas 1 - 6
DESCRIPTION:
URL:https://www.steinerschoolleuven.be/activiteit/individueel-oudercontact-klas-1-6/
CATEGORIES:Basisschool
END:VEVENT
BEGIN:VEVENT
DTSTART;TZID=Europe/Brussels:20250227T190000
DTEND;TZID=Europe/Brussels:20250227T220000
DTSTAMP:20260422T032110
CREATED:20250117T124548Z
LAST-MODIFIED:20250214T103523Z
UID:32275-1740682800-1740693600@www.steinerschoolleuven.be
SUMMARY:Klas 4 ouderavond wordt uitgesteld naar een latere datum
DESCRIPTION:
URL:https://www.steinerschoolleuven.be/activiteit/klas-4-ouderavond-2/
CATEGORIES:Basisschool
END:VEVENT
BEGIN:VEVENT
DTSTART;TZID=Europe/Brussels:20250225T190000
DTEND;TZID=Europe/Brussels:20250225T210000
DTSTAMP:20260422T032110
CREATED:20250207T115048Z
LAST-MODIFIED:20250207T115052Z
UID:32637-1740510000-1740517200@www.steinerschoolleuven.be
SUMMARY:Klas 6 ouderavond
DESCRIPTION:
URL:https://www.steinerschoolleuven.be/activiteit/klas-6-ouderavond-3/
CATEGORIES:Basisschool
END:VEVENT
BEGIN:VEVENT
DTSTART;TZID=Europe/Brussels:20250221T090000
DTEND;TZID=Europe/Brussels:20250221T110000
DTSTAMP:20260422T032110
CREATED:20250131T142322Z
LAST-MODIFIED:20250131T142325Z
UID:32333-1740128400-1740135600@www.steinerschoolleuven.be
SUMMARY:'Ronja de roversdochter' door klas 4
DESCRIPTION:voor ouders en familie
URL:https://www.steinerschoolleuven.be/activiteit/ronja-de-roversdochter-door-klas-4/
CATEGORIES:Basisschool
END:VEVENT
BEGIN:VEVENT
DTSTART;TZID=Europe/Brussels:20250211T000000
DTEND;TZID=Europe/Brussels:20250211T235959
DTSTAMP:20260422T032110
CREATED:20241018T130705Z
LAST-MODIFIED:20250207T154700Z
UID:31892-1739232000-1739318399@www.steinerschoolleuven.be
SUMMARY:Studiedag voor de basisschool
DESCRIPTION:vrij voor peuters\, kleuters\, leerlingen van klas 1 – 6
URL:https://www.steinerschoolleuven.be/activiteit/studiedag-voor-de-basisschool/
CATEGORIES:Basisschool
END:VEVENT
BEGIN:VEVENT
DTSTART;TZID=Europe/Brussels:20250205T190000
DTEND;TZID=Europe/Brussels:20250205T220000
DTSTAMP:20260422T032110
CREATED:20241018T135546Z
LAST-MODIFIED:20241018T135548Z
UID:31913-1738782000-1738792800@www.steinerschoolleuven.be
SUMMARY:Klas 3 ouderavond
DESCRIPTION:
URL:https://www.steinerschoolleuven.be/activiteit/klas-3-ouderavond-3/
CATEGORIES:Basisschool
END:VEVENT
BEGIN:VEVENT
DTSTART;TZID=Europe/Brussels:20250205T190000
DTEND;TZID=Europe/Brussels:20250205T220000
DTSTAMP:20260422T032110
CREATED:20241018T130148Z
LAST-MODIFIED:20250123T141346Z
UID:31888-1738782000-1738792800@www.steinerschoolleuven.be
SUMMARY:Gele en groene peuterklas ouderavond
DESCRIPTION:
URL:https://www.steinerschoolleuven.be/activiteit/gele-peuterklas-ouderavond-3/
CATEGORIES:Basisschool
END:VEVENT
BEGIN:VEVENT
DTSTART;TZID=Europe/Brussels:20250131T000000
DTEND;TZID=Europe/Brussels:20250131T235959
DTSTAMP:20260422T032110
CREATED:20241018T125803Z
LAST-MODIFIED:20241018T125805Z
UID:31886-1738281600-1738367999@www.steinerschoolleuven.be
SUMMARY:Maria Lichtmis
DESCRIPTION:speelklassen en klas 1 – 6
URL:https://www.steinerschoolleuven.be/activiteit/maria-lichtmis/
CATEGORIES:Basisschool
END:VEVENT
BEGIN:VEVENT
DTSTART;TZID=Europe/Brussels:20250130T190000
DTEND;TZID=Europe/Brussels:20250130T220000
DTSTAMP:20260422T032110
CREATED:20241018T135423Z
LAST-MODIFIED:20241018T135425Z
UID:31911-1738263600-1738274400@www.steinerschoolleuven.be
SUMMARY:Klas 2 ouderavond
DESCRIPTION:
URL:https://www.steinerschoolleuven.be/activiteit/klas-2-ouderavond-3/
CATEGORIES:Basisschool
END:VEVENT
BEGIN:VEVENT
DTSTART;TZID=Europe/Brussels:20250128T190000
DTEND;TZID=Europe/Brussels:20250128T220000
DTSTAMP:20260422T032110
CREATED:20241018T135331Z
LAST-MODIFIED:20241018T135333Z
UID:31909-1738090800-1738101600@www.steinerschoolleuven.be
SUMMARY:Klas 1 ouderavond
DESCRIPTION:
URL:https://www.steinerschoolleuven.be/activiteit/klas-1-ouderavond/
CATEGORIES:Basisschool
END:VEVENT
BEGIN:VEVENT
DTSTART;TZID=Europe/Brussels:20250121T190000
DTEND;TZID=Europe/Brussels:20250121T220000
DTSTAMP:20260422T032110
CREATED:20241018T135202Z
LAST-MODIFIED:20241018T135205Z
UID:31907-1737486000-1737496800@www.steinerschoolleuven.be
SUMMARY:Klas 6 ouderavond
DESCRIPTION:
URL:https://www.steinerschoolleuven.be/activiteit/klas-6-ouderavond-2/
CATEGORIES:Basisschool
END:VEVENT
BEGIN:VEVENT
DTSTART;TZID=Europe/Brussels:20241220T000000
DTEND;TZID=Europe/Brussels:20241220T235959
DTSTAMP:20260422T032110
CREATED:20240916T131114Z
LAST-MODIFIED:20240916T131116Z
UID:31769-1734652800-1734739199@www.steinerschoolleuven.be
SUMMARY:Rapport
DESCRIPTION:klas 4 – 6
URL:https://www.steinerschoolleuven.be/activiteit/rapport/
CATEGORIES:Basisschool
END:VEVENT
BEGIN:VEVENT
DTSTART;TZID=Europe/Brussels:20241212T000000
DTEND;TZID=Europe/Brussels:20241212T235959
DTSTAMP:20260422T032110
CREATED:20240916T130822Z
LAST-MODIFIED:20240916T130824Z
UID:31765-1733961600-1734047999@www.steinerschoolleuven.be
SUMMARY:Individueel oudercontact
DESCRIPTION:klas 1 – 3
URL:https://www.steinerschoolleuven.be/activiteit/individueel-oudercontact/
CATEGORIES:Basisschool
END:VEVENT
BEGIN:VEVENT
DTSTART;TZID=Europe/Brussels:20241206T000000
DTEND;TZID=Europe/Brussels:20241206T235959
DTSTAMP:20260422T032110
CREATED:20240916T130458Z
LAST-MODIFIED:20240916T130459Z
UID:31763-1733443200-1733529599@www.steinerschoolleuven.be
SUMMARY:Vrije dag
DESCRIPTION:voor peuters\, kleuters\, klas 1 – 6
URL:https://www.steinerschoolleuven.be/activiteit/vrije-dag/
CATEGORIES:Basisschool
END:VEVENT
BEGIN:VEVENT
DTSTART;TZID=Europe/Brussels:20241205T000000
DTEND;TZID=Europe/Brussels:20241205T235959
DTSTAMP:20260422T032110
CREATED:20240916T125103Z
LAST-MODIFIED:20240916T132411Z
UID:31761-1733356800-1733443199@www.steinerschoolleuven.be
SUMMARY:Sint op school
DESCRIPTION:
URL:https://www.steinerschoolleuven.be/activiteit/sint-op-school/
CATEGORIES:Basisschool
END:VEVENT
BEGIN:VEVENT
DTSTART;TZID=Europe/Brussels:20241126T190000
DTEND;TZID=Europe/Brussels:20241126T220000
DTSTAMP:20260422T032110
CREATED:20241025T090714Z
LAST-MODIFIED:20241025T102256Z
UID:31943-1732647600-1732658400@www.steinerschoolleuven.be
SUMMARY:Infoavond over de buitenklas
DESCRIPTION:voor de ouders van de oudste kleuters uit de paarse\, rode en oranje speelklas
URL:https://www.steinerschoolleuven.be/activiteit/infoavond-over-de-buitenklas/
CATEGORIES:Basisschool
END:VEVENT
BEGIN:VEVENT
DTSTART;TZID=Europe/Brussels:20241112T190000
DTEND;TZID=Europe/Brussels:20241112T220000
DTSTAMP:20260422T032110
CREATED:20241011T141139Z
LAST-MODIFIED:20241011T141141Z
UID:31848-1731438000-1731448800@www.steinerschoolleuven.be
SUMMARY:Klas 3 ouderavond
DESCRIPTION:
URL:https://www.steinerschoolleuven.be/activiteit/klas-3-ouderavond-2/
CATEGORIES:Basisschool
END:VEVENT
BEGIN:VEVENT
DTSTART;TZID=Europe/Brussels:20241112T190000
DTEND;TZID=Europe/Brussels:20241112T220000
DTSTAMP:20260422T032110
CREATED:20240916T103411Z
LAST-MODIFIED:20241018T103411Z
UID:31745-1731438000-1731448800@www.steinerschoolleuven.be
SUMMARY:Gemeenschappelijke ouderavond voor alle speelklassen
DESCRIPTION:knutselavond voor Sint
URL:https://www.steinerschoolleuven.be/activiteit/ouderavond-gele-peuterklas/
CATEGORIES:Basisschool
END:VEVENT
BEGIN:VEVENT
DTSTART;TZID=Europe/Brussels:20241112T190000
DTEND;TZID=Europe/Brussels:20241112T210000
DTSTAMP:20260422T032110
CREATED:20241108T095520Z
LAST-MODIFIED:20241108T095522Z
UID:31959-1731438000-1731445200@www.steinerschoolleuven.be
SUMMARY:Klas 5 ouderavond
DESCRIPTION:
URL:https://www.steinerschoolleuven.be/activiteit/klas-5-ouderavond-2/
CATEGORIES:Basisschool
END:VEVENT
BEGIN:VEVENT
DTSTART;TZID=Europe/Brussels:20241108T170000
DTEND;TZID=Europe/Brussels:20241108T200000
DTSTAMP:20260422T032110
CREATED:20240916T103048Z
LAST-MODIFIED:20240916T103050Z
UID:31741-1731085200-1731096000@www.steinerschoolleuven.be
SUMMARY:Sint-Maartenfeest
DESCRIPTION:peuters\, kleuters\, klas 1 – 6
URL:https://www.steinerschoolleuven.be/activiteit/sint-maartenfeest/
CATEGORIES:Basisschool
END:VEVENT
BEGIN:VEVENT
DTSTART;TZID=Europe/Brussels:20241106T190000
DTEND;TZID=Europe/Brussels:20241106T220000
DTSTAMP:20260422T032110
CREATED:20241011T140940Z
LAST-MODIFIED:20241011T140942Z
UID:31846-1730919600-1730930400@www.steinerschoolleuven.be
SUMMARY:Klas 2 ouderavond
DESCRIPTION:
URL:https://www.steinerschoolleuven.be/activiteit/klas-2-ouderavond-2/
CATEGORIES:Basisschool
END:VEVENT
BEGIN:VEVENT
DTSTART;TZID=Europe/Brussels:20241024T000000
DTEND;TZID=Europe/Brussels:20241024T235959
DTSTAMP:20260422T032110
CREATED:20240916T101005Z
LAST-MODIFIED:20240916T101007Z
UID:31721-1729728000-1729814399@www.steinerschoolleuven.be
SUMMARY:Individuele oudercontacten
DESCRIPTION:klas 1 – 6
URL:https://www.steinerschoolleuven.be/activiteit/individuele-oudercontacten/
CATEGORIES:Basisschool
END:VEVENT
BEGIN:VEVENT
DTSTART;TZID=Europe/Brussels:20241018T000000
DTEND;TZID=Europe/Brussels:20241018T235959
DTSTAMP:20260422T032110
CREATED:20241011T111007Z
LAST-MODIFIED:20241011T111011Z
UID:31838-1729209600-1729295999@www.steinerschoolleuven.be
SUMMARY:Wieltjesdag!
DESCRIPTION:klas 1 – 6
URL:https://www.steinerschoolleuven.be/activiteit/wieltjesdag/
CATEGORIES:Basisschool
END:VEVENT
BEGIN:VEVENT
DTSTART;TZID=Europe/Brussels:20241002T000000
DTEND;TZID=Europe/Brussels:20241002T235959
DTSTAMP:20260422T032110
CREATED:20240906T151126Z
LAST-MODIFIED:20240916T101403Z
UID:31697-1727827200-1727913599@www.steinerschoolleuven.be
SUMMARY:Nationale studiedag basisschool
DESCRIPTION:vrij voor peuters\, kleuters en klas 1 tot 6
URL:https://www.steinerschoolleuven.be/activiteit/nationale-studiedag/
CATEGORIES:Basisschool
END:VEVENT
BEGIN:VEVENT
DTSTART;TZID=Europe/Brussels:20240927T083000
DTEND;TZID=Europe/Brussels:20240927T150000
DTSTAMP:20260422T032110
CREATED:20240906T082932Z
LAST-MODIFIED:20240916T101225Z
UID:31683-1727425800-1727449200@www.steinerschoolleuven.be
SUMMARY:Michaëlsfeest
DESCRIPTION:klas 1 tot 6
URL:https://www.steinerschoolleuven.be/activiteit/klas-1-tot-6-michaelsfeest/
CATEGORIES:Basisschool
END:VEVENT
BEGIN:VEVENT
DTSTART;TZID=Europe/Brussels:20240925T090000
DTEND;TZID=Europe/Brussels:20240925T123000
DTSTAMP:20260422T032110
CREATED:20240906T082630Z
LAST-MODIFIED:20240916T101143Z
UID:31681-1727254800-1727267400@www.steinerschoolleuven.be
SUMMARY:Michaëlsfeest
DESCRIPTION:peuter- en speelklassen
URL:https://www.steinerschoolleuven.be/activiteit/speelklassen-michaelsfeest/
CATEGORIES:Basisschool
END:VEVENT
BEGIN:VEVENT
DTSTART;TZID=Europe/Brussels:20240627T183000
DTEND;TZID=Europe/Brussels:20240627T230000
DTSTAMP:20260422T032110
CREATED:20240517T111752Z
LAST-MODIFIED:20240517T112006Z
UID:31369-1719513000-1719529200@www.steinerschoolleuven.be
SUMMARY:Klas 6 'De Störm' + eindfeest
DESCRIPTION:een toneelstuk van Sheakespeare\, bewerkt door Tom Lanoye\, ouders en grootouders hartelijk welkom
URL:https://www.steinerschoolleuven.be/activiteit/klas-6-de-storm-eindfeestje/
CATEGORIES:Basisschool
END:VEVENT
BEGIN:VEVENT
DTSTART;TZID=Europe/Brussels:20240626T000000
DTEND;TZID=Europe/Brussels:20240626T235959
DTSTAMP:20260422T032110
CREATED:20240531T100038Z
LAST-MODIFIED:20240531T110807Z
UID:31491-1719360000-1719446399@www.steinerschoolleuven.be
SUMMARY:Klas 1 picknick aan het meer van Rotselaar
DESCRIPTION:met de fiets
URL:https://www.steinerschoolleuven.be/activiteit/klas-1-afsluitende-picknick-aan-het-meer-van-rotselaar-met-de-fiets/
CATEGORIES:Basisschool
END:VEVENT
BEGIN:VEVENT
DTSTART;TZID=Europe/Brussels:20240626T000000
DTEND;TZID=Europe/Brussels:20240626T235959
DTSTAMP:20260422T032110
CREATED:20231011T112521Z
LAST-MODIFIED:20240524T090350Z
UID:28661-1719360000-1719446399@www.steinerschoolleuven.be
SUMMARY:Sint-Jansfeest kleuterschool + ontvangst van de nieuwe Klas 1 in de lagere school
DESCRIPTION:
URL:https://www.steinerschoolleuven.be/activiteit/sint-jansfeest-kleuterschool-3/
CATEGORIES:Basisschool
END:VEVENT
END:VCALENDAR