BEGIN:VCALENDAR
VERSION:2.0
PRODID:-//Steinerschool Leuven de Zonnewijzer - ECPv6.15.20//NONSGML v1.0//EN
CALSCALE:GREGORIAN
METHOD:PUBLISH
X-ORIGINAL-URL:https://www.steinerschoolleuven.be
X-WR-CALDESC:Evenementen voor Steinerschool Leuven de Zonnewijzer
REFRESH-INTERVAL;VALUE=DURATION:PT1H
X-Robots-Tag:noindex
X-PUBLISHED-TTL:PT1H
BEGIN:VTIMEZONE
TZID:Europe/Brussels
BEGIN:DAYLIGHT
TZOFFSETFROM:+0100
TZOFFSETTO:+0200
TZNAME:CEST
DTSTART:20250330T010000
END:DAYLIGHT
BEGIN:STANDARD
TZOFFSETFROM:+0200
TZOFFSETTO:+0100
TZNAME:CET
DTSTART:20251026T010000
END:STANDARD
BEGIN:DAYLIGHT
TZOFFSETFROM:+0100
TZOFFSETTO:+0200
TZNAME:CEST
DTSTART:20260329T010000
END:DAYLIGHT
BEGIN:STANDARD
TZOFFSETFROM:+0200
TZOFFSETTO:+0100
TZNAME:CET
DTSTART:20261025T010000
END:STANDARD
BEGIN:DAYLIGHT
TZOFFSETFROM:+0100
TZOFFSETTO:+0200
TZNAME:CEST
DTSTART:20270328T010000
END:DAYLIGHT
BEGIN:STANDARD
TZOFFSETFROM:+0200
TZOFFSETTO:+0100
TZNAME:CET
DTSTART:20271031T010000
END:STANDARD
END:VTIMEZONE
BEGIN:VEVENT
DTSTART;TZID=Europe/Brussels:20260309T190000
DTEND;TZID=Europe/Brussels:20260309T220000
DTSTAMP:20260421T222147
CREATED:20260306T121228Z
LAST-MODIFIED:20260306T121230Z
UID:38449-1773082800-1773093600@www.steinerschoolleuven.be
SUMMARY:Jaarwerkpresentaties door klas 9A
DESCRIPTION:
URL:https://www.steinerschoolleuven.be/activiteit/jaarwerkpresentaties-door-klas-9a-2/
CATEGORIES:Middelbaar
END:VEVENT
BEGIN:VEVENT
DTSTART;TZID=Europe/Brussels:20260310T000000
DTEND;TZID=Europe/Brussels:20260310T235959
DTSTAMP:20260421T222147
CREATED:20251107T142246Z
LAST-MODIFIED:20251107T142249Z
UID:35116-1773100800-1773187199@www.steinerschoolleuven.be
SUMMARY:Pedagogische studiedag Middelbaar
DESCRIPTION:vrij voor de leerlingen van klassen 7 – 12
URL:https://www.steinerschoolleuven.be/activiteit/pedagogische-studiedag-middelbaar-2/
CATEGORIES:Middelbaar
END:VEVENT
BEGIN:VEVENT
DTSTART;TZID=Europe/Brussels:20260312T190000
DTEND;TZID=Europe/Brussels:20260312T220000
DTSTAMP:20260421T222147
CREATED:20260306T121422Z
LAST-MODIFIED:20260306T121425Z
UID:38451-1773342000-1773352800@www.steinerschoolleuven.be
SUMMARY:Jaarwerkpresentaties door klas 9B
DESCRIPTION:
URL:https://www.steinerschoolleuven.be/activiteit/jaarwerkpresentaties-door-klas-9b-2/
CATEGORIES:Middelbaar
END:VEVENT
BEGIN:VEVENT
DTSTART;TZID=Europe/Brussels:20260320T180000
DTEND;TZID=Europe/Brussels:20260321T180000
DTSTAMP:20260421T222147
CREATED:20251107T142844Z
LAST-MODIFIED:20260206T150241Z
UID:35124-1774029600-1774116000@www.steinerschoolleuven.be
SUMMARY:Eindwerkenpresentaties door klas 12A
DESCRIPTION:
URL:https://www.steinerschoolleuven.be/activiteit/eindwerkenpresentaties-door-klas-12a/
CATEGORIES:Middelbaar
END:VEVENT
BEGIN:VEVENT
DTSTART;TZID=Europe/Brussels:20260327T180000
DTEND;TZID=Europe/Brussels:20260328T180000
DTSTAMP:20260421T222147
CREATED:20251107T143025Z
LAST-MODIFIED:20251107T143028Z
UID:35127-1774634400-1774720800@www.steinerschoolleuven.be
SUMMARY:Eindwerkenpresentaties door klas 12B
DESCRIPTION:
URL:https://www.steinerschoolleuven.be/activiteit/eindwerkenpresentaties-door-klas-12b/
CATEGORIES:Middelbaar
END:VEVENT
BEGIN:VEVENT
DTSTART;TZID=Europe/Brussels:20260330T000000
DTEND;TZID=Europe/Brussels:20260403T235959
DTSTAMP:20260421T222147
CREATED:20251107T143312Z
LAST-MODIFIED:20251107T143314Z
UID:35129-1774828800-1775260799@www.steinerschoolleuven.be
SUMMARY:Klas 12A ontwerpweek
DESCRIPTION:
URL:https://www.steinerschoolleuven.be/activiteit/klas-12a-ontwerpweek/
CATEGORIES:Middelbaar
END:VEVENT
END:VCALENDAR