BEGIN:VCALENDAR
VERSION:2.0
PRODID:-//Steinerschool Leuven de Zonnewijzer - ECPv6.15.20//NONSGML v1.0//EN
CALSCALE:GREGORIAN
METHOD:PUBLISH
X-ORIGINAL-URL:https://www.steinerschoolleuven.be
X-WR-CALDESC:Evenementen voor Steinerschool Leuven de Zonnewijzer
REFRESH-INTERVAL;VALUE=DURATION:PT1H
X-Robots-Tag:noindex
X-PUBLISHED-TTL:PT1H
BEGIN:VTIMEZONE
TZID:Europe/Brussels
BEGIN:DAYLIGHT
TZOFFSETFROM:+0100
TZOFFSETTO:+0200
TZNAME:CEST
DTSTART:20250330T010000
END:DAYLIGHT
BEGIN:STANDARD
TZOFFSETFROM:+0200
TZOFFSETTO:+0100
TZNAME:CET
DTSTART:20251026T010000
END:STANDARD
BEGIN:DAYLIGHT
TZOFFSETFROM:+0100
TZOFFSETTO:+0200
TZNAME:CEST
DTSTART:20260329T010000
END:DAYLIGHT
BEGIN:STANDARD
TZOFFSETFROM:+0200
TZOFFSETTO:+0100
TZNAME:CET
DTSTART:20261025T010000
END:STANDARD
BEGIN:DAYLIGHT
TZOFFSETFROM:+0100
TZOFFSETTO:+0200
TZNAME:CEST
DTSTART:20270328T010000
END:DAYLIGHT
BEGIN:STANDARD
TZOFFSETFROM:+0200
TZOFFSETTO:+0100
TZNAME:CET
DTSTART:20271031T010000
END:STANDARD
END:VTIMEZONE
BEGIN:VEVENT
DTSTART;TZID=Europe/Brussels:20260615T000000
DTEND;TZID=Europe/Brussels:20260619T235959
DTSTAMP:20260421T204040
CREATED:20251128T132834Z
LAST-MODIFIED:20251128T132836Z
UID:35492-1781481600-1781913599@www.steinerschoolleuven.be
SUMMARY:Klas 7 A&B Ardennen
DESCRIPTION:
URL:https://www.steinerschoolleuven.be/activiteit/klas-7-ab-ardennen/
CATEGORIES:Middelbaar
END:VEVENT
BEGIN:VEVENT
DTSTART;TZID=Europe/Brussels:20260615T000000
DTEND;TZID=Europe/Brussels:20260619T235959
DTSTAMP:20260421T204040
CREATED:20251128T133040Z
LAST-MODIFIED:20251128T133042Z
UID:35494-1781481600-1781913599@www.steinerschoolleuven.be
SUMMARY:Klas 8 A&B zeilen
DESCRIPTION:
URL:https://www.steinerschoolleuven.be/activiteit/klas-8-ab-zeilen/
CATEGORIES:Middelbaar
END:VEVENT
BEGIN:VEVENT
DTSTART;TZID=Europe/Brussels:20260616T000000
DTEND;TZID=Europe/Brussels:20260622T235959
DTSTAMP:20260421T204040
CREATED:20251128T133217Z
LAST-MODIFIED:20251128T133313Z
UID:35496-1781568000-1782172799@www.steinerschoolleuven.be
SUMMARY:Klassen 11 - 12 examens
DESCRIPTION:
URL:https://www.steinerschoolleuven.be/activiteit/klassen-11-12-examens-2/
CATEGORIES:Middelbaar
END:VEVENT
BEGIN:VEVENT
DTSTART;TZID=Europe/Brussels:20260624T000000
DTEND;TZID=Europe/Brussels:20260629T235959
DTSTAMP:20260421T204040
CREATED:20251128T133805Z
LAST-MODIFIED:20251128T133807Z
UID:35502-1782259200-1782777599@www.steinerschoolleuven.be
SUMMARY:Deliberaties
DESCRIPTION:vrij voor de leerlingen van klassen 7 – 12
URL:https://www.steinerschoolleuven.be/activiteit/deliberaties-2/
CATEGORIES:Middelbaar
END:VEVENT
BEGIN:VEVENT
DTSTART;TZID=Europe/Brussels:20260626T180000
DTEND;TZID=Europe/Brussels:20260626T230000
DTSTAMP:20260421T204040
CREATED:20251128T133938Z
LAST-MODIFIED:20251128T133940Z
UID:35504-1782496800-1782514800@www.steinerschoolleuven.be
SUMMARY:Klas 12 A&B proclamatie + uitreiking diploma
DESCRIPTION:
URL:https://www.steinerschoolleuven.be/activiteit/klas-12-ab-proclamatie-uitreiking-diploma/
CATEGORIES:Middelbaar
END:VEVENT
END:VCALENDAR