BEGIN:VCALENDAR
VERSION:2.0
PRODID:-//Steinerschool Leuven de Zonnewijzer - ECPv6.15.20//NONSGML v1.0//EN
CALSCALE:GREGORIAN
METHOD:PUBLISH
X-WR-CALNAME:Steinerschool Leuven de Zonnewijzer
X-ORIGINAL-URL:https://www.steinerschoolleuven.be
X-WR-CALDESC:Evenementen voor Steinerschool Leuven de Zonnewijzer
REFRESH-INTERVAL;VALUE=DURATION:PT1H
X-Robots-Tag:noindex
X-PUBLISHED-TTL:PT1H
BEGIN:VTIMEZONE
TZID:Europe/Brussels
BEGIN:DAYLIGHT
TZOFFSETFROM:+0100
TZOFFSETTO:+0200
TZNAME:CEST
DTSTART:20240331T010000
END:DAYLIGHT
BEGIN:STANDARD
TZOFFSETFROM:+0200
TZOFFSETTO:+0100
TZNAME:CET
DTSTART:20241027T010000
END:STANDARD
BEGIN:DAYLIGHT
TZOFFSETFROM:+0100
TZOFFSETTO:+0200
TZNAME:CEST
DTSTART:20250330T010000
END:DAYLIGHT
BEGIN:STANDARD
TZOFFSETFROM:+0200
TZOFFSETTO:+0100
TZNAME:CET
DTSTART:20251026T010000
END:STANDARD
BEGIN:DAYLIGHT
TZOFFSETFROM:+0100
TZOFFSETTO:+0200
TZNAME:CEST
DTSTART:20260329T010000
END:DAYLIGHT
BEGIN:STANDARD
TZOFFSETFROM:+0200
TZOFFSETTO:+0100
TZNAME:CET
DTSTART:20261025T010000
END:STANDARD
BEGIN:DAYLIGHT
TZOFFSETFROM:+0100
TZOFFSETTO:+0200
TZNAME:CEST
DTSTART:20270328T010000
END:DAYLIGHT
BEGIN:STANDARD
TZOFFSETFROM:+0200
TZOFFSETTO:+0100
TZNAME:CET
DTSTART:20271031T010000
END:STANDARD
END:VTIMEZONE
BEGIN:VEVENT
DTSTART;TZID=Europe/Brussels:20251103T000000
DTEND;TZID=Europe/Brussels:20251107T235900
DTSTAMP:20260423T152210
CREATED:20250905T122425Z
LAST-MODIFIED:20250905T124123Z
UID:34855-1762128000-1762559940@www.steinerschoolleuven.be
SUMMARY:Klas 9B bosbouw
DESCRIPTION:
URL:https://www.steinerschoolleuven.be/activiteit/klas-9b-bosbouw-2/
CATEGORIES:Middelbaar
END:VEVENT
BEGIN:VEVENT
DTSTART;TZID=Europe/Brussels:20251103T000000
DTEND;TZID=Europe/Brussels:20251107T235959
DTSTAMP:20260423T152210
CREATED:20250905T122609Z
LAST-MODIFIED:20250905T122652Z
UID:34857-1762128000-1762559999@www.steinerschoolleuven.be
SUMMARY:Klas 10B sociaal practicum
DESCRIPTION:
URL:https://www.steinerschoolleuven.be/activiteit/klas-10b-sociaal-practicum/
CATEGORIES:Middelbaar
END:VEVENT
BEGIN:VEVENT
DTSTART;TZID=Europe/Brussels:20251103T000000
DTEND;TZID=Europe/Brussels:20251107T235959
DTSTAMP:20260423T152210
CREATED:20250905T122804Z
LAST-MODIFIED:20250905T122807Z
UID:34859-1762128000-1762559999@www.steinerschoolleuven.be
SUMMARY:Klas 11B industriële stage
DESCRIPTION:
URL:https://www.steinerschoolleuven.be/activiteit/klas-11b-industriele-stage/
CATEGORIES:Middelbaar
END:VEVENT
BEGIN:VEVENT
DTSTART;TZID=Europe/Brussels:20251103T000000
DTEND;TZID=Europe/Brussels:20251107T235959
DTSTAMP:20260423T152210
CREATED:20250905T123034Z
LAST-MODIFIED:20250905T124316Z
UID:34861-1762128000-1762559999@www.steinerschoolleuven.be
SUMMARY:Klas 12B ideëele stage
DESCRIPTION:
URL:https://www.steinerschoolleuven.be/activiteit/klas-12b-ideeele-stage/
CATEGORIES:Middelbaar
END:VEVENT
BEGIN:VEVENT
DTSTART;TZID=Europe/Brussels:20251104T133000
DTEND;TZID=Europe/Brussels:20251104T150000
DTSTAMP:20260423T152210
CREATED:20251024T105551Z
LAST-MODIFIED:20251024T105554Z
UID:35079-1762263000-1762268400@www.steinerschoolleuven.be
SUMMARY:Klas 11A gaat naar 'Skin in the game' in OPEK
DESCRIPTION:
URL:https://www.steinerschoolleuven.be/activiteit/klas-11a-gaat-naar-skin-in-the-game-in-opek/
CATEGORIES:Middelbaar
END:VEVENT
BEGIN:VEVENT
DTSTART;TZID=Europe/Brussels:20251112T133000
DTEND;TZID=Europe/Brussels:20251112T220000
DTSTAMP:20260423T152210
CREATED:20251017T121445Z
LAST-MODIFIED:20251017T134238Z
UID:35063-1762954200-1762984800@www.steinerschoolleuven.be
SUMMARY:Sint-Maartenswandeling (10 mijl + 10 km)
DESCRIPTION:klassen 7 – 12\, georganiseerd door klas 10
URL:https://www.steinerschoolleuven.be/activiteit/sint-maartenswandeling-10-mijl-10-km/
CATEGORIES:Middelbaar
END:VEVENT
BEGIN:VEVENT
DTSTART;TZID=Europe/Brussels:20251112T200000
DTEND;TZID=Europe/Brussels:20251112T220000
DTSTAMP:20260423T152210
CREATED:20251010T124424Z
LAST-MODIFIED:20251010T124426Z
UID:35051-1762977600-1762984800@www.steinerschoolleuven.be
SUMMARY:Klas 10B ouderavond
DESCRIPTION:
URL:https://www.steinerschoolleuven.be/activiteit/klas-10b-ouderavond/
CATEGORIES:Middelbaar
END:VEVENT
BEGIN:VEVENT
DTSTART;TZID=Europe/Brussels:20251113T193000
DTEND;TZID=Europe/Brussels:20251113T213000
DTSTAMP:20260423T152210
CREATED:20251010T124526Z
LAST-MODIFIED:20251010T124528Z
UID:35053-1763062200-1763069400@www.steinerschoolleuven.be
SUMMARY:Klas 7 A&B ouderavond
DESCRIPTION:
URL:https://www.steinerschoolleuven.be/activiteit/klas-7-ab-ouderavond-3/
CATEGORIES:Middelbaar
END:VEVENT
BEGIN:VEVENT
DTSTART;TZID=Europe/Brussels:20251113T200000
DTEND;TZID=Europe/Brussels:20251113T220000
DTSTAMP:20260423T152210
CREATED:20251010T124630Z
LAST-MODIFIED:20251010T124633Z
UID:35055-1763064000-1763071200@www.steinerschoolleuven.be
SUMMARY:Klas 10A ouderavond
DESCRIPTION:
URL:https://www.steinerschoolleuven.be/activiteit/klas-10a-ouderavond/
CATEGORIES:Middelbaar
END:VEVENT
BEGIN:VEVENT
DTSTART;TZID=Europe/Brussels:20251118T193000
DTEND;TZID=Europe/Brussels:20251118T220000
DTSTAMP:20260423T152210
CREATED:20251017T112215Z
LAST-MODIFIED:20251017T112217Z
UID:35061-1763494200-1763503200@www.steinerschoolleuven.be
SUMMARY:Klas 8 A&B ouderavond
DESCRIPTION:
URL:https://www.steinerschoolleuven.be/activiteit/klas-8-ab-ouderavond-2/
CATEGORIES:Middelbaar
END:VEVENT
BEGIN:VEVENT
DTSTART;TZID=Europe/Brussels:20251121T133000
DTEND;TZID=Europe/Brussels:20251121T150000
DTSTAMP:20260423T152210
CREATED:20251114T092742Z
LAST-MODIFIED:20251114T092744Z
UID:35150-1763731800-1763737200@www.steinerschoolleuven.be
SUMMARY:Klas 8A verzorgt een concertje op de palliatieve afdeling van het UZ Leuven in het teken van Sint-Maarten
DESCRIPTION:
URL:https://www.steinerschoolleuven.be/activiteit/klas-8a-verzorgt-een-concertje-op-de-palliatieve-afdeling-van-het-uz-leuven-in-het-teken-van-sint-maarten/
CATEGORIES:Middelbaar
END:VEVENT
BEGIN:VEVENT
DTSTART;TZID=Europe/Brussels:20251124T000000
DTEND;TZID=Europe/Brussels:20251128T235959
DTSTAMP:20260423T152210
CREATED:20250919T104218Z
LAST-MODIFIED:20250919T104220Z
UID:34920-1763942400-1764374399@www.steinerschoolleuven.be
SUMMARY:Klas 10A sociaal practicum
DESCRIPTION:
URL:https://www.steinerschoolleuven.be/activiteit/klas-10a-sociaal-practicum/
CATEGORIES:Middelbaar
END:VEVENT
BEGIN:VEVENT
DTSTART;TZID=Europe/Brussels:20251124T000000
DTEND;TZID=Europe/Brussels:20251128T235959
DTSTAMP:20260423T152210
CREATED:20250919T104340Z
LAST-MODIFIED:20250919T104342Z
UID:34922-1763942400-1764374399@www.steinerschoolleuven.be
SUMMARY:Klas 11A kunstweek
DESCRIPTION:
URL:https://www.steinerschoolleuven.be/activiteit/klas-11a-kunstweek/
CATEGORIES:Middelbaar
END:VEVENT
BEGIN:VEVENT
DTSTART;TZID=Europe/Brussels:20251124T000000
DTEND;TZID=Europe/Brussels:20251128T235959
DTSTAMP:20260423T152210
CREATED:20250919T104448Z
LAST-MODIFIED:20250919T104451Z
UID:34924-1763942400-1764374399@www.steinerschoolleuven.be
SUMMARY:Klas 12A ideëele stage
DESCRIPTION:
URL:https://www.steinerschoolleuven.be/activiteit/klas-12a-ideeele-stage/
CATEGORIES:Middelbaar
END:VEVENT
BEGIN:VEVENT
DTSTART;TZID=Europe/Brussels:20251125T200000
DTEND;TZID=Europe/Brussels:20251125T220000
DTSTAMP:20260423T152210
CREATED:20251107T144615Z
LAST-MODIFIED:20251107T144618Z
UID:35138-1764100800-1764108000@www.steinerschoolleuven.be
SUMMARY:Klas 12 A&B ouderavond
DESCRIPTION:
URL:https://www.steinerschoolleuven.be/activiteit/klas-12-ab-ouderavond-2/
CATEGORIES:Middelbaar
END:VEVENT
BEGIN:VEVENT
DTSTART;TZID=Europe/Brussels:20251202T000000
DTEND;TZID=Europe/Brussels:20251202T235959
DTSTAMP:20260423T152210
CREATED:20251128T110459Z
LAST-MODIFIED:20251128T125930Z
UID:35456-1764633600-1764719999@www.steinerschoolleuven.be
SUMMARY:Klas 7B gaat naar het ABC-huis in Brussel
DESCRIPTION:De leerlingen zitten een dag niet op de eigen schoolbanken\, maar op die van het ABC-huis in Brussel. Het belooft een inspirerende dag te worden! En het mag geweten worden: na drie jaar proberen om daar een schooldag te kunnen reserveren voor onze school\, is het ons dit jaar eindelijk gelukt.
URL:https://www.steinerschoolleuven.be/activiteit/klas-7b-gaat-naar-het-abc-huis-in-brussel/
CATEGORIES:Middelbaar
END:VEVENT
BEGIN:VEVENT
DTSTART;TZID=Europe/Brussels:20251204T000000
DTEND;TZID=Europe/Brussels:20251204T235959
DTSTAMP:20260423T152210
CREATED:20250919T105551Z
LAST-MODIFIED:20250919T105553Z
UID:34934-1764806400-1764892799@www.steinerschoolleuven.be
SUMMARY:Evaluatiedag middelbare school
DESCRIPTION:vrij voor de leerlingen van klassen 7 – 12
URL:https://www.steinerschoolleuven.be/activiteit/evaluatiedag-middelbare-school/
CATEGORIES:Middelbaar
END:VEVENT
BEGIN:VEVENT
DTSTART;TZID=Europe/Brussels:20251205T000000
DTEND;TZID=Europe/Brussels:20251205T235959
DTSTAMP:20260423T152210
CREATED:20251010T093511Z
LAST-MODIFIED:20251010T104422Z
UID:35031-1764892800-1764979199@www.steinerschoolleuven.be
SUMMARY:Klas 10 A&B zijn uitgenodigd in Freinetschool 'De l'autre côté de l'école' in Brussel
DESCRIPTION:In het kader van de les Frans is er dit schooljaar een correspondentie opgestart tussen de Franstalige leerlingen en de onze.
URL:https://www.steinerschoolleuven.be/activiteit/klas-10-ab-zijn-uitgenodigd-in-freinetschool-de-lautre-cote-de-lecole-in-brussel/
CATEGORIES:Middelbaar
END:VEVENT
BEGIN:VEVENT
DTSTART;TZID=Europe/Brussels:20251215T193000
DTEND;TZID=Europe/Brussels:20251215T220000
DTSTAMP:20260423T152210
CREATED:20251120T153345Z
LAST-MODIFIED:20251120T153348Z
UID:35253-1765827000-1765836000@www.steinerschoolleuven.be
SUMMARY:Klas 9A ouderavond
DESCRIPTION:
URL:https://www.steinerschoolleuven.be/activiteit/klas-9a-ouderavond/
CATEGORIES:Middelbaar
END:VEVENT
BEGIN:VEVENT
DTSTART;TZID=Europe/Brussels:20251216T193000
DTEND;TZID=Europe/Brussels:20251216T220000
DTSTAMP:20260423T152210
CREATED:20251107T144749Z
LAST-MODIFIED:20251107T144751Z
UID:35140-1765913400-1765922400@www.steinerschoolleuven.be
SUMMARY:Klas 11 A&B ouderavond
DESCRIPTION:
URL:https://www.steinerschoolleuven.be/activiteit/klas-11-ab-ouderavond-3/
CATEGORIES:Middelbaar
END:VEVENT
BEGIN:VEVENT
DTSTART;TZID=Europe/Brussels:20260112T000000
DTEND;TZID=Europe/Brussels:20260112T235959
DTSTAMP:20260423T152210
CREATED:20250919T115942Z
LAST-MODIFIED:20250919T115944Z
UID:34942-1768176000-1768262399@www.steinerschoolleuven.be
SUMMARY:Pedagogische studiedag Middelbaar
DESCRIPTION:Vrij voor de leerlingen van klassen 7 – 12
URL:https://www.steinerschoolleuven.be/activiteit/pedagogische-studiedag-middelbaar/
CATEGORIES:Middelbaar
END:VEVENT
BEGIN:VEVENT
DTSTART;TZID=Europe/Brussels:20260113T000000
DTEND;TZID=Europe/Brussels:20260113T235959
DTSTAMP:20260423T152210
CREATED:20251212T110229Z
LAST-MODIFIED:20251212T110232Z
UID:36023-1768262400-1768348799@www.steinerschoolleuven.be
SUMMARY:Individueel oudercontact middelbare school
DESCRIPTION:
URL:https://www.steinerschoolleuven.be/activiteit/individueel-oudercontact-middelbare-school-3/
CATEGORIES:Middelbaar
END:VEVENT
BEGIN:VEVENT
DTSTART;TZID=Europe/Brussels:20260113T000000
DTEND;TZID=Europe/Brussels:20260113T235959
DTSTAMP:20260423T152210
CREATED:20251219T133834Z
LAST-MODIFIED:20251219T133836Z
UID:36169-1768262400-1768348799@www.steinerschoolleuven.be
SUMMARY:Klas 7A gaat naar het ABC-huis in Brussel
DESCRIPTION:
URL:https://www.steinerschoolleuven.be/activiteit/klas-7a-gaat-naar-het-abc-huis-in-brussel/
CATEGORIES:Middelbaar
END:VEVENT
BEGIN:VEVENT
DTSTART;TZID=Europe/Brussels:20260113T200000
DTEND;TZID=Europe/Brussels:20260113T220000
DTSTAMP:20260423T152210
CREATED:20251219T131924Z
LAST-MODIFIED:20251219T132138Z
UID:36165-1768334400-1768341600@www.steinerschoolleuven.be
SUMMARY:Klas 12 A&B ouderavond
DESCRIPTION:
URL:https://www.steinerschoolleuven.be/activiteit/klas-12-ab-ouderavond-3/
CATEGORIES:Middelbaar
END:VEVENT
BEGIN:VEVENT
DTSTART;TZID=Europe/Brussels:20260115T000000
DTEND;TZID=Europe/Brussels:20260115T235959
DTSTAMP:20260423T152210
CREATED:20251212T110332Z
LAST-MODIFIED:20251212T110334Z
UID:36025-1768435200-1768521599@www.steinerschoolleuven.be
SUMMARY:Individueel oudercontact middelbare school
DESCRIPTION:
URL:https://www.steinerschoolleuven.be/activiteit/individueel-oudercontact-middelbare-school-4/
CATEGORIES:Middelbaar
END:VEVENT
BEGIN:VEVENT
DTSTART;TZID=Europe/Brussels:20260116T133000
DTEND;TZID=Europe/Brussels:20260116T150000
DTSTAMP:20260423T152210
CREATED:20251219T125227Z
LAST-MODIFIED:20251219T125229Z
UID:36163-1768570200-1768575600@www.steinerschoolleuven.be
SUMMARY:Klas 8B verzorgt een nieuwjaarsconcertje op de palliatieve afdeling van het UZ Leuven
DESCRIPTION:
URL:https://www.steinerschoolleuven.be/activiteit/klas-8b-verzorgt-een-nieuwjaarsconcertje-op-de-palliatieve-afdeling-van-het-uz-leuven/
CATEGORIES:Middelbaar
END:VEVENT
BEGIN:VEVENT
DTSTART;TZID=Europe/Brussels:20260122T200000
DTEND;TZID=Europe/Brussels:20260122T220000
DTSTAMP:20260423T152210
CREATED:20251107T150018Z
LAST-MODIFIED:20251219T124644Z
UID:35144-1769112000-1769119200@www.steinerschoolleuven.be
SUMMARY:Klas 10B ouderavond
DESCRIPTION:
URL:https://www.steinerschoolleuven.be/activiteit/klas-10b-ouderavond-2/
CATEGORIES:Middelbaar
END:VEVENT
BEGIN:VEVENT
DTSTART;TZID=Europe/Brussels:20260129T000000
DTEND;TZID=Europe/Brussels:20260129T235959
DTSTAMP:20260423T152210
CREATED:20260123T113619Z
LAST-MODIFIED:20260123T113621Z
UID:37824-1769644800-1769731199@www.steinerschoolleuven.be
SUMMARY:klas 10B ontmoet jongeren van HEJMO+
DESCRIPTION:klas 10B ontmoet jongeren van HEJMO+ hier op school\, een ander deel van de klas gaat daar op bezoek. Dit om elkaar te ontmoeten én samen de benefietavond\, die doorgaat op zaterdag 13 maart\, tvv vluchtelingenkampen in Gaza voor te bereiden. HEJMO+ kadert binnen SOS Kinderdorpen en biedt opvang aan niet begeleide minderjarige jongeren die naar België gevlucht zijn.
URL:https://www.steinerschoolleuven.be/activiteit/klas-10b-ontmoet-jongeren-van-hejmo/
CATEGORIES:Middelbaar
END:VEVENT
BEGIN:VEVENT
DTSTART;TZID=Europe/Brussels:20260202T000000
DTEND;TZID=Europe/Brussels:20260205T235959
DTSTAMP:20260423T152210
CREATED:20250919T122759Z
LAST-MODIFIED:20250919T122802Z
UID:34957-1769990400-1770335999@www.steinerschoolleuven.be
SUMMARY:Klas 10B toneel
DESCRIPTION:
URL:https://www.steinerschoolleuven.be/activiteit/klas-10b-toneel/
CATEGORIES:Middelbaar
END:VEVENT
BEGIN:VEVENT
DTSTART;TZID=Europe/Brussels:20260202T000000
DTEND;TZID=Europe/Brussels:20260206T235959
DTSTAMP:20260423T152210
CREATED:20250919T122903Z
LAST-MODIFIED:20250919T122905Z
UID:34959-1769990400-1770422399@www.steinerschoolleuven.be
SUMMARY:Klas 11B kunstweek
DESCRIPTION:
URL:https://www.steinerschoolleuven.be/activiteit/klas-11b-kunstweek/
CATEGORIES:Middelbaar
END:VEVENT
END:VCALENDAR