BEGIN:VCALENDAR
VERSION:2.0
PRODID:-//Steinerschool Leuven de Zonnewijzer - ECPv6.15.20//NONSGML v1.0//EN
CALSCALE:GREGORIAN
METHOD:PUBLISH
X-WR-CALNAME:Steinerschool Leuven de Zonnewijzer
X-ORIGINAL-URL:https://www.steinerschoolleuven.be
X-WR-CALDESC:Evenementen voor Steinerschool Leuven de Zonnewijzer
REFRESH-INTERVAL;VALUE=DURATION:PT1H
X-Robots-Tag:noindex
X-PUBLISHED-TTL:PT1H
BEGIN:VTIMEZONE
TZID:Europe/Brussels
BEGIN:DAYLIGHT
TZOFFSETFROM:+0100
TZOFFSETTO:+0200
TZNAME:CEST
DTSTART:20240331T010000
END:DAYLIGHT
BEGIN:STANDARD
TZOFFSETFROM:+0200
TZOFFSETTO:+0100
TZNAME:CET
DTSTART:20241027T010000
END:STANDARD
BEGIN:DAYLIGHT
TZOFFSETFROM:+0100
TZOFFSETTO:+0200
TZNAME:CEST
DTSTART:20250330T010000
END:DAYLIGHT
BEGIN:STANDARD
TZOFFSETFROM:+0200
TZOFFSETTO:+0100
TZNAME:CET
DTSTART:20251026T010000
END:STANDARD
BEGIN:DAYLIGHT
TZOFFSETFROM:+0100
TZOFFSETTO:+0200
TZNAME:CEST
DTSTART:20260329T010000
END:DAYLIGHT
BEGIN:STANDARD
TZOFFSETFROM:+0200
TZOFFSETTO:+0100
TZNAME:CET
DTSTART:20261025T010000
END:STANDARD
END:VTIMEZONE
BEGIN:VEVENT
DTSTART;TZID=Europe/Brussels:20250919T170000
DTEND;TZID=Europe/Brussels:20250921T120000
DTSTAMP:20260423T135311
CREATED:20250905T114516Z
LAST-MODIFIED:20250919T133903Z
UID:34833-1758301200-1758456000@www.steinerschoolleuven.be
SUMMARY:Klassen 12 A&B klasweekend
DESCRIPTION:
URL:https://www.steinerschoolleuven.be/activiteit/klas-12b-klasweekend/
CATEGORIES:Middelbaar
END:VEVENT
BEGIN:VEVENT
DTSTART;TZID=Europe/Brussels:20250825T000000
DTEND;TZID=Europe/Brussels:20250826T235959
DTSTAMP:20260423T135311
CREATED:20250228T142713Z
LAST-MODIFIED:20250228T143024Z
UID:33430-1756080000-1756252799@www.steinerschoolleuven.be
SUMMARY:Herexamens
DESCRIPTION:klassen 7 – 12
URL:https://www.steinerschoolleuven.be/activiteit/herexamens/
CATEGORIES:Middelbaar
END:VEVENT
BEGIN:VEVENT
DTSTART;TZID=Europe/Brussels:20250626T170000
DTEND;TZID=Europe/Brussels:20250626T230000
DTSTAMP:20260423T135311
CREATED:20250228T142353Z
LAST-MODIFIED:20250625T104202Z
UID:33426-1750957200-1750978800@www.steinerschoolleuven.be
SUMMARY:Proclamatie
DESCRIPTION:klas 12 A&B
URL:https://www.steinerschoolleuven.be/activiteit/proclamatie/
CATEGORIES:Middelbaar
END:VEVENT
BEGIN:VEVENT
DTSTART;TZID=Europe/Brussels:20250624T000000
DTEND;TZID=Europe/Brussels:20250627T235959
DTSTAMP:20260423T135311
CREATED:20250228T142157Z
LAST-MODIFIED:20250228T142200Z
UID:33424-1750723200-1751068799@www.steinerschoolleuven.be
SUMMARY:Deliberaties
DESCRIPTION:vrij voor de leerlingen van klassen 7 – 12
URL:https://www.steinerschoolleuven.be/activiteit/deliberaties/
CATEGORIES:Middelbaar
END:VEVENT
BEGIN:VEVENT
DTSTART;TZID=Europe/Brussels:20250623T000000
DTEND;TZID=Europe/Brussels:20250623T235959
DTSTAMP:20260423T135311
CREATED:20250228T141640Z
LAST-MODIFIED:20250509T121338Z
UID:33418-1750636800-1750723199@www.steinerschoolleuven.be
SUMMARY:Sint-Jansfeest
DESCRIPTION:klassen 7 – 12
URL:https://www.steinerschoolleuven.be/activiteit/sint-jansfeest-2/
CATEGORIES:Middelbaar
END:VEVENT
BEGIN:VEVENT
DTSTART;TZID=Europe/Brussels:20250616T000000
DTEND;TZID=Europe/Brussels:20250623T235959
DTSTAMP:20260423T135311
CREATED:20250228T141323Z
LAST-MODIFIED:20250228T145318Z
UID:33414-1750032000-1750723199@www.steinerschoolleuven.be
SUMMARY:Toneelweek
DESCRIPTION:klas 12A
URL:https://www.steinerschoolleuven.be/activiteit/toneelweek-3/
CATEGORIES:Middelbaar
END:VEVENT
BEGIN:VEVENT
DTSTART;TZID=Europe/Brussels:20250616T000000
DTEND;TZID=Europe/Brussels:20250620T235959
DTSTAMP:20260423T135311
CREATED:20250228T140739Z
LAST-MODIFIED:20250228T140741Z
UID:33412-1750032000-1750463999@www.steinerschoolleuven.be
SUMMARY:Zeilreis
DESCRIPTION:klas 8 A&B
URL:https://www.steinerschoolleuven.be/activiteit/zeilreis/
CATEGORIES:Middelbaar
END:VEVENT
BEGIN:VEVENT
DTSTART;TZID=Europe/Brussels:20250616T000000
DTEND;TZID=Europe/Brussels:20250620T235959
DTSTAMP:20260423T135311
CREATED:20250228T140613Z
LAST-MODIFIED:20250228T141133Z
UID:33410-1750032000-1750463999@www.steinerschoolleuven.be
SUMMARY:Ardennenweek
DESCRIPTION:klas 7 A&B
URL:https://www.steinerschoolleuven.be/activiteit/ardennenweek/
CATEGORIES:Middelbaar
END:VEVENT
BEGIN:VEVENT
DTSTART;TZID=Europe/Brussels:20250613T000000
DTEND;TZID=Europe/Brussels:20250613T235959
DTSTAMP:20260423T135311
CREATED:20250516T132036Z
LAST-MODIFIED:20250516T132039Z
UID:33711-1749772800-1749859199@www.steinerschoolleuven.be
SUMMARY:Klassen 7&8 sportdag
DESCRIPTION:gaat door op de Philipssite
URL:https://www.steinerschoolleuven.be/activiteit/klassen-78-sportdag/
CATEGORIES:Middelbaar
END:VEVENT
BEGIN:VEVENT
DTSTART;TZID=Europe/Brussels:20250611T193000
DTEND;TZID=Europe/Brussels:20250611T220000
DTSTAMP:20260423T135311
CREATED:20250425T111122Z
LAST-MODIFIED:20250425T111125Z
UID:33621-1749670200-1749679200@www.steinerschoolleuven.be
SUMMARY:Klas 7B Jaarwerkpresentaties
DESCRIPTION:
URL:https://www.steinerschoolleuven.be/activiteit/klas-7b-jaarwerkpresentaties/
CATEGORIES:Middelbaar
END:VEVENT
BEGIN:VEVENT
DTSTART;TZID=Europe/Brussels:20250610T193000
DTEND;TZID=Europe/Brussels:20250610T220000
DTSTAMP:20260423T135311
CREATED:20250425T110829Z
LAST-MODIFIED:20250425T110942Z
UID:33618-1749583800-1749592800@www.steinerschoolleuven.be
SUMMARY:Klas 7A Jaarwerkpresentaties
DESCRIPTION:
URL:https://www.steinerschoolleuven.be/activiteit/klas-7a-jaarwerkpresentaties/
CATEGORIES:Middelbaar
END:VEVENT
BEGIN:VEVENT
DTSTART;TZID=Europe/Brussels:20250602T000000
DTEND;TZID=Europe/Brussels:20250606T235959
DTSTAMP:20260423T135311
CREATED:20250207T153249Z
LAST-MODIFIED:20250207T154030Z
UID:32674-1748822400-1749254399@www.steinerschoolleuven.be
SUMMARY:Chartres
DESCRIPTION:klas 11 A&B
URL:https://www.steinerschoolleuven.be/activiteit/chartres/
CATEGORIES:Middelbaar
END:VEVENT
BEGIN:VEVENT
DTSTART;TZID=Europe/Brussels:20250602T000000
DTEND;TZID=Europe/Brussels:20250606T235959
DTSTAMP:20260423T135311
CREATED:20250207T153124Z
LAST-MODIFIED:20250207T153950Z
UID:32670-1748822400-1749254399@www.steinerschoolleuven.be
SUMMARY:Landmeten
DESCRIPTION:klas 10 A&B
URL:https://www.steinerschoolleuven.be/activiteit/landmeten/
CATEGORIES:Middelbaar
END:VEVENT
BEGIN:VEVENT
DTSTART;TZID=Europe/Brussels:20250602T000000
DTEND;TZID=Europe/Brussels:20250606T235959
DTSTAMP:20260423T135311
CREATED:20250207T153006Z
LAST-MODIFIED:20250207T153904Z
UID:32668-1748822400-1749254399@www.steinerschoolleuven.be
SUMMARY:Mediaweek
DESCRIPTION:klas 9 A&B
URL:https://www.steinerschoolleuven.be/activiteit/mediaweek/
CATEGORIES:Middelbaar
END:VEVENT
BEGIN:VEVENT
DTSTART;TZID=Europe/Brussels:20250527T190000
DTEND;TZID=Europe/Brussels:20250527T230000
DTSTAMP:20260423T135311
CREATED:20250516T131651Z
LAST-MODIFIED:20250516T131653Z
UID:33709-1748372400-1748386800@www.steinerschoolleuven.be
SUMMARY:Klas 11A presenteert de schilderijen gemaakt tijdens de kunstweek
DESCRIPTION:iedereen welkom!
URL:https://www.steinerschoolleuven.be/activiteit/klas-11a-presenteert-de-schilderijen-gemaakt-tijdens-de-kunstweek/
CATEGORIES:Middelbaar
END:VEVENT
BEGIN:VEVENT
DTSTART;TZID=Europe/Brussels:20250527T000000
DTEND;TZID=Europe/Brussels:20250606T235959
DTSTAMP:20260423T135311
CREATED:20250207T152546Z
LAST-MODIFIED:20250207T153458Z
UID:32662-1748304000-1749254399@www.steinerschoolleuven.be
SUMMARY:Eindreis
DESCRIPTION:klas 12 A&B
URL:https://www.steinerschoolleuven.be/activiteit/klas-12-ab-eindreis/
CATEGORIES:Middelbaar
END:VEVENT
BEGIN:VEVENT
DTSTART;TZID=Europe/Brussels:20250521T180000
DTEND;TZID=Europe/Brussels:20250521T200000
DTSTAMP:20260423T135311
CREATED:20250425T100206Z
LAST-MODIFIED:20250425T100208Z
UID:33606-1747850400-1747857600@www.steinerschoolleuven.be
SUMMARY:Klas 8 A&B ambachtenmarkt
DESCRIPTION:voor ouders\, familie\, geïnteresseerden
URL:https://www.steinerschoolleuven.be/activiteit/klas-8-ab-ambachtenmarkt/
CATEGORIES:Middelbaar
END:VEVENT
BEGIN:VEVENT
DTSTART;TZID=Europe/Brussels:20250519T084500
DTEND;TZID=Europe/Brussels:20250523T123000
DTSTAMP:20260423T135311
CREATED:20250207T151909Z
LAST-MODIFIED:20250509T130026Z
UID:32659-1747644300-1748003400@www.steinerschoolleuven.be
SUMMARY:Examens
DESCRIPTION:klassen 11&12
URL:https://www.steinerschoolleuven.be/activiteit/klassen-11-12-examens/
CATEGORIES:Middelbaar
END:VEVENT
BEGIN:VEVENT
DTSTART;TZID=Europe/Brussels:20250516T000000
DTEND;TZID=Europe/Brussels:20250516T235959
DTSTAMP:20260423T135311
CREATED:20250509T111044Z
LAST-MODIFIED:20250509T111047Z
UID:33662-1747353600-1747439999@www.steinerschoolleuven.be
SUMMARY:Klas 9A vlottentocht op de Dijle
DESCRIPTION:
URL:https://www.steinerschoolleuven.be/activiteit/klas-9a-vlottentocht-op-de-dijle/
CATEGORIES:Middelbaar
END:VEVENT
BEGIN:VEVENT
DTSTART;TZID=Europe/Brussels:20250513T090000
DTEND;TZID=Europe/Brussels:20250513T110000
DTSTAMP:20260423T135311
CREATED:20250207T151524Z
LAST-MODIFIED:20250228T142007Z
UID:32657-1747126800-1747134000@www.steinerschoolleuven.be
SUMMARY:Vlaamse toetsen
DESCRIPTION:klas 8 A&B
URL:https://www.steinerschoolleuven.be/activiteit/klas-8-ab-vlaamse-toetsen-2/
CATEGORIES:Middelbaar
END:VEVENT
BEGIN:VEVENT
DTSTART;TZID=Europe/Brussels:20250508T193000
DTEND;TZID=Europe/Brussels:20250508T220000
DTSTAMP:20260423T135311
CREATED:20250314T110430Z
LAST-MODIFIED:20250314T110432Z
UID:33441-1746732600-1746741600@www.steinerschoolleuven.be
SUMMARY:Klas 8 A&B ouderavond
DESCRIPTION:
URL:https://www.steinerschoolleuven.be/activiteit/klas-8-ab-ouderavond/
CATEGORIES:Middelbaar
END:VEVENT
BEGIN:VEVENT
DTSTART;TZID=Europe/Brussels:20250429T090000
DTEND;TZID=Europe/Brussels:20250429T110000
DTSTAMP:20260423T135311
CREATED:20250207T150405Z
LAST-MODIFIED:20250207T150407Z
UID:32642-1745917200-1745924400@www.steinerschoolleuven.be
SUMMARY:Klas 8 A&B Vlaamse toetsen
DESCRIPTION:
URL:https://www.steinerschoolleuven.be/activiteit/klas-8-ab-vlaamse-toetsen/
CATEGORIES:Middelbaar
END:VEVENT
BEGIN:VEVENT
DTSTART;TZID=Europe/Brussels:20250404T000000
DTEND;TZID=Europe/Brussels:20250404T235959
DTSTAMP:20260423T135311
CREATED:20241122T113203Z
LAST-MODIFIED:20241122T113205Z
UID:32009-1743724800-1743811199@www.steinerschoolleuven.be
SUMMARY:Rapport 3
DESCRIPTION:klassen 7 – 12
URL:https://www.steinerschoolleuven.be/activiteit/rapport-3/
CATEGORIES:Middelbaar
END:VEVENT
BEGIN:VEVENT
DTSTART;TZID=Europe/Brussels:20250401T000000
DTEND;TZID=Europe/Brussels:20250401T235959
DTSTAMP:20260423T135311
CREATED:20241122T112547Z
LAST-MODIFIED:20241122T112549Z
UID:32002-1743465600-1743551999@www.steinerschoolleuven.be
SUMMARY:Evaluatiedag 3
DESCRIPTION:vrij voor de leerlingen van klassen 7 – 12
URL:https://www.steinerschoolleuven.be/activiteit/evaluatiedag-3/
CATEGORIES:Middelbaar
END:VEVENT
BEGIN:VEVENT
DTSTART;TZID=Europe/Brussels:20250328T000000
DTEND;TZID=Europe/Brussels:20250329T235959
DTSTAMP:20260423T135311
CREATED:20241122T112341Z
LAST-MODIFIED:20241122T131105Z
UID:32000-1743120000-1743292799@www.steinerschoolleuven.be
SUMMARY:Eindwerkenpresentaties door klas 12B
DESCRIPTION:
URL:https://www.steinerschoolleuven.be/activiteit/presentatie-van-de-eindwerken-door-klas-12b/
CATEGORIES:Middelbaar
END:VEVENT
BEGIN:VEVENT
DTSTART;TZID=Europe/Brussels:20250321T000000
DTEND;TZID=Europe/Brussels:20250322T235959
DTSTAMP:20260423T135311
CREATED:20241122T112232Z
LAST-MODIFIED:20241122T131021Z
UID:31998-1742515200-1742687999@www.steinerschoolleuven.be
SUMMARY:Eindwerkenpresentaties door klas 12A
DESCRIPTION:
URL:https://www.steinerschoolleuven.be/activiteit/presentatie-van-de-eindwerken-door-klas-12a/
CATEGORIES:Middelbaar
END:VEVENT
BEGIN:VEVENT
DTSTART;TZID=Europe/Brussels:20250311T200000
DTEND;TZID=Europe/Brussels:20250311T223000
DTSTAMP:20260423T135311
CREATED:20250214T102355Z
LAST-MODIFIED:20250214T102358Z
UID:32928-1741723200-1741732200@www.steinerschoolleuven.be
SUMMARY:Klas 11 A&B ouderavond
DESCRIPTION:
URL:https://www.steinerschoolleuven.be/activiteit/klas-11-ab-ouderavond-2/
CATEGORIES:Middelbaar
END:VEVENT
BEGIN:VEVENT
DTSTART;TZID=Europe/Brussels:20250227T193000
DTEND;TZID=Europe/Brussels:20250227T223000
DTSTAMP:20260423T135311
CREATED:20250214T095010Z
LAST-MODIFIED:20250214T095012Z
UID:32926-1740684600-1740695400@www.steinerschoolleuven.be
SUMMARY:Jaarwerkpresentaties door klas 9B
DESCRIPTION:
URL:https://www.steinerschoolleuven.be/activiteit/jaarwerkpresentaties-door-klas-9b/
CATEGORIES:Middelbaar
END:VEVENT
BEGIN:VEVENT
DTSTART;TZID=Europe/Brussels:20250227T193000
DTEND;TZID=Europe/Brussels:20250227T220000
DTSTAMP:20260423T135311
CREATED:20250117T111256Z
LAST-MODIFIED:20250117T124428Z
UID:32267-1740684600-1740693600@www.steinerschoolleuven.be
SUMMARY:Klas 7 A&B ouderavond
DESCRIPTION:
URL:https://www.steinerschoolleuven.be/activiteit/klas-7-ab-ouderavon/
CATEGORIES:Middelbaar
END:VEVENT
BEGIN:VEVENT
DTSTART;TZID=Europe/Brussels:20250227T160000
DTEND;TZID=Europe/Brussels:20250227T200000
DTSTAMP:20260423T135311
CREATED:20250219T130834Z
LAST-MODIFIED:20250219T134415Z
UID:33123-1740672000-1740686400@www.steinerschoolleuven.be
SUMMARY:Praatcafé: (studie)keuze\, wat na de middelbare school?
DESCRIPTION:
URL:https://www.steinerschoolleuven.be/activiteit/praatcafe-studiekeuze-wat-na-de-middelbare-school/
CATEGORIES:Middelbaar
END:VEVENT
END:VCALENDAR