BEGIN:VCALENDAR
VERSION:2.0
PRODID:-//Steinerschool Leuven de Zonnewijzer - ECPv6.15.20//NONSGML v1.0//EN
CALSCALE:GREGORIAN
METHOD:PUBLISH
X-WR-CALNAME:Steinerschool Leuven de Zonnewijzer
X-ORIGINAL-URL:https://www.steinerschoolleuven.be
X-WR-CALDESC:Evenementen voor Steinerschool Leuven de Zonnewijzer
REFRESH-INTERVAL;VALUE=DURATION:PT1H
X-Robots-Tag:noindex
X-PUBLISHED-TTL:PT1H
BEGIN:VTIMEZONE
TZID:Europe/Brussels
BEGIN:DAYLIGHT
TZOFFSETFROM:+0100
TZOFFSETTO:+0200
TZNAME:CEST
DTSTART:20230326T010000
END:DAYLIGHT
BEGIN:STANDARD
TZOFFSETFROM:+0200
TZOFFSETTO:+0100
TZNAME:CET
DTSTART:20231029T010000
END:STANDARD
BEGIN:DAYLIGHT
TZOFFSETFROM:+0100
TZOFFSETTO:+0200
TZNAME:CEST
DTSTART:20240331T010000
END:DAYLIGHT
BEGIN:STANDARD
TZOFFSETFROM:+0200
TZOFFSETTO:+0100
TZNAME:CET
DTSTART:20241027T010000
END:STANDARD
BEGIN:DAYLIGHT
TZOFFSETFROM:+0100
TZOFFSETTO:+0200
TZNAME:CEST
DTSTART:20250330T010000
END:DAYLIGHT
BEGIN:STANDARD
TZOFFSETFROM:+0200
TZOFFSETTO:+0100
TZNAME:CET
DTSTART:20251026T010000
END:STANDARD
END:VTIMEZONE
BEGIN:VEVENT
DTSTART;TZID=Europe/Brussels:20241125T000000
DTEND;TZID=Europe/Brussels:20241129T235959
DTSTAMP:20260423T164750
CREATED:20240916T124332Z
LAST-MODIFIED:20240916T124334Z
UID:31756-1732492800-1732924799@www.steinerschoolleuven.be
SUMMARY:Industriële stage
DESCRIPTION:klas 11B
URL:https://www.steinerschoolleuven.be/activiteit/industriele-stage/
CATEGORIES:Middelbaar
END:VEVENT
BEGIN:VEVENT
DTSTART;TZID=Europe/Brussels:20241125T000000
DTEND;TZID=Europe/Brussels:20241129T235959
DTSTAMP:20260423T164750
CREATED:20240916T124225Z
LAST-MODIFIED:20240916T124227Z
UID:31754-1732492800-1732924799@www.steinerschoolleuven.be
SUMMARY:Sociaal practicum
DESCRIPTION:klas 10B
URL:https://www.steinerschoolleuven.be/activiteit/sociaal-practicum-2/
CATEGORIES:Middelbaar
END:VEVENT
BEGIN:VEVENT
DTSTART;TZID=Europe/Brussels:20241121T133000
DTEND;TZID=Europe/Brussels:20241121T160000
DTSTAMP:20260423T164750
CREATED:20241115T125454Z
LAST-MODIFIED:20241115T125456Z
UID:31988-1732195800-1732204800@www.steinerschoolleuven.be
SUMMARY:Klas 8A gaat zingen op de palliatieve dienst van Gasthuisberg
DESCRIPTION:
URL:https://www.steinerschoolleuven.be/activiteit/klas-8a-gaat-zingen-op-de-palliatieve-dienst-van-gasthuisberg/
CATEGORIES:Middelbaar
END:VEVENT
BEGIN:VEVENT
DTSTART;TZID=Europe/Brussels:20241112T000000
DTEND;TZID=Europe/Brussels:20241112T235959
DTSTAMP:20260423T164750
CREATED:20240916T103950Z
LAST-MODIFIED:20240916T132040Z
UID:31749-1731369600-1731455999@www.steinerschoolleuven.be
SUMMARY:Oudercontact op uitnodiging
DESCRIPTION:klassen 7 – 12
URL:https://www.steinerschoolleuven.be/activiteit/oudercontact-op-uitnodiging/
CATEGORIES:Middelbaar
END:VEVENT
BEGIN:VEVENT
DTSTART;TZID=Europe/Brussels:20241104T000000
DTEND;TZID=Europe/Brussels:20241108T235959
DTSTAMP:20260423T164750
CREATED:20240916T102758Z
LAST-MODIFIED:20240916T124518Z
UID:31739-1730678400-1731110399@www.steinerschoolleuven.be
SUMMARY:Ideële stage
DESCRIPTION:klas 12A
URL:https://www.steinerschoolleuven.be/activiteit/ideele-stage/
CATEGORIES:Middelbaar
END:VEVENT
BEGIN:VEVENT
DTSTART;TZID=Europe/Brussels:20241104T000000
DTEND;TZID=Europe/Brussels:20241108T235959
DTSTAMP:20260423T164750
CREATED:20240916T102704Z
LAST-MODIFIED:20241025T064341Z
UID:31737-1730678400-1731110399@www.steinerschoolleuven.be
SUMMARY:Industriële stage
DESCRIPTION:klas 11A
URL:https://www.steinerschoolleuven.be/activiteit/industriele-stage-2/
CATEGORIES:Middelbaar
END:VEVENT
BEGIN:VEVENT
DTSTART;TZID=Europe/Brussels:20241104T000000
DTEND;TZID=Europe/Brussels:20241108T235959
DTSTAMP:20260423T164750
CREATED:20240916T101956Z
LAST-MODIFIED:20240916T124620Z
UID:31735-1730678400-1731110399@www.steinerschoolleuven.be
SUMMARY:Sociaal practicum
DESCRIPTION:klas 10A
URL:https://www.steinerschoolleuven.be/activiteit/sociaal-practicum/
CATEGORIES:Middelbaar
END:VEVENT
BEGIN:VEVENT
DTSTART;TZID=Europe/Brussels:20241104T000000
DTEND;TZID=Europe/Brussels:20241108T235959
DTSTAMP:20260423T164750
CREATED:20240916T101740Z
LAST-MODIFIED:20240918T103703Z
UID:31733-1730678400-1731110399@www.steinerschoolleuven.be
SUMMARY:Bosbouw
DESCRIPTION:klas 9B
URL:https://www.steinerschoolleuven.be/activiteit/bosbouw-2/
CATEGORIES:Middelbaar
END:VEVENT
BEGIN:VEVENT
DTSTART;TZID=Europe/Brussels:20241025T000000
DTEND;TZID=Europe/Brussels:20241025T235959
DTSTAMP:20260423T164750
CREATED:20241018T125215Z
LAST-MODIFIED:20241018T125217Z
UID:31876-1729814400-1729900799@www.steinerschoolleuven.be
SUMMARY:Rapport 1
DESCRIPTION:voor de leerlingen van klassen 7 – 12
URL:https://www.steinerschoolleuven.be/activiteit/rapport-1-2/
CATEGORIES:Middelbaar
END:VEVENT
BEGIN:VEVENT
DTSTART;TZID=Europe/Brussels:20241024T200000
DTEND;TZID=Europe/Brussels:20241024T220000
DTSTAMP:20260423T164750
CREATED:20241018T092843Z
LAST-MODIFIED:20241025T090520Z
UID:31855-1729800000-1729807200@www.steinerschoolleuven.be
SUMMARY:Iphigeneia door klas 10B
DESCRIPTION:Deze klassieker wordt opgevoerd in een hedendaags kleedje. Ouders\, familie\, symphatisanten welkom!
URL:https://www.steinerschoolleuven.be/activiteit/iphigeneia-door-klas-10b/
CATEGORIES:Middelbaar
END:VEVENT
BEGIN:VEVENT
DTSTART;TZID=Europe/Brussels:20241021T000000
DTEND;TZID=Europe/Brussels:20241025T235959
DTSTAMP:20260423T164750
CREATED:20240916T100858Z
LAST-MODIFIED:20240916T131745Z
UID:31719-1729468800-1729900799@www.steinerschoolleuven.be
SUMMARY:Kunstweek
DESCRIPTION:klas 11B
URL:https://www.steinerschoolleuven.be/activiteit/kunstweek/
CATEGORIES:Middelbaar
END:VEVENT
BEGIN:VEVENT
DTSTART;TZID=Europe/Brussels:20241021T000000
DTEND;TZID=Europe/Brussels:20241025T235959
DTSTAMP:20260423T164750
CREATED:20240916T100748Z
LAST-MODIFIED:20241018T124716Z
UID:31717-1729468800-1729900799@www.steinerschoolleuven.be
SUMMARY:Toneelweek
DESCRIPTION:klas 10B
URL:https://www.steinerschoolleuven.be/activiteit/toneel/
CATEGORIES:Middelbaar
END:VEVENT
BEGIN:VEVENT
DTSTART;TZID=Europe/Brussels:20241021T000000
DTEND;TZID=Europe/Brussels:20241025T235959
DTSTAMP:20260423T164750
CREATED:20240916T100646Z
LAST-MODIFIED:20240918T103822Z
UID:31715-1729468800-1729900799@www.steinerschoolleuven.be
SUMMARY:Bosbouw
DESCRIPTION:klas 9A
URL:https://www.steinerschoolleuven.be/activiteit/bosbouw/
CATEGORIES:Middelbaar
END:VEVENT
BEGIN:VEVENT
DTSTART;TZID=Europe/Brussels:20241018T000000
DTEND;TZID=Europe/Brussels:20241018T235959
DTSTAMP:20260423T164750
CREATED:20240916T100130Z
LAST-MODIFIED:20240916T131609Z
UID:31713-1729209600-1729295999@www.steinerschoolleuven.be
SUMMARY:Evaluatiedag 1
DESCRIPTION:vrij voor de leerlingen van klassen 7 – 12
URL:https://www.steinerschoolleuven.be/activiteit/evaluatiedag-1/
CATEGORIES:Middelbaar
END:VEVENT
BEGIN:VEVENT
DTSTART;TZID=Europe/Brussels:20241003T000000
DTEND;TZID=Europe/Brussels:20241003T235959
DTSTAMP:20260423T164750
CREATED:20240906T160908Z
LAST-MODIFIED:20240916T101422Z
UID:31700-1727913600-1727999999@www.steinerschoolleuven.be
SUMMARY:Nationale lerarendag middelbaar
DESCRIPTION:vrij voor de leerlingen van klassen 7 tot 12
URL:https://www.steinerschoolleuven.be/activiteit/nationale-lerarendag-middelbaar/
CATEGORIES:Middelbaar
END:VEVENT
BEGIN:VEVENT
DTSTART;TZID=Europe/Brussels:20241001T083000
DTEND;TZID=Europe/Brussels:20241001T160000
DTSTAMP:20260423T164750
CREATED:20240906T150950Z
LAST-MODIFIED:20240916T101341Z
UID:31695-1727771400-1727798400@www.steinerschoolleuven.be
SUMMARY:Sportdag
DESCRIPTION:klassen 9 tot 12
URL:https://www.steinerschoolleuven.be/activiteit/sportdag/
CATEGORIES:Middelbaar
END:VEVENT
BEGIN:VEVENT
DTSTART;TZID=Europe/Brussels:20240927T110000
DTEND;TZID=Europe/Brussels:20240927T130000
DTSTAMP:20260423T164750
CREATED:20240906T083959Z
LAST-MODIFIED:20240916T101316Z
UID:31693-1727434800-1727442000@www.steinerschoolleuven.be
SUMMARY:Michaëlsviering
DESCRIPTION:klassen 9 – 12
URL:https://www.steinerschoolleuven.be/activiteit/michaelsviering/
CATEGORIES:Middelbaar
END:VEVENT
BEGIN:VEVENT
DTSTART;TZID=Europe/Brussels:20240927T083000
DTEND;TZID=Europe/Brussels:20240927T150000
DTSTAMP:20260423T164750
CREATED:20240906T083846Z
LAST-MODIFIED:20240916T101251Z
UID:31691-1727425800-1727449200@www.steinerschoolleuven.be
SUMMARY:Michaëlsfeest
DESCRIPTION:klassen 7 & 8
URL:https://www.steinerschoolleuven.be/activiteit/michaelsfeest/
CATEGORIES:Middelbaar
END:VEVENT
BEGIN:VEVENT
DTSTART;TZID=Europe/Brussels:20240926T180000
DTEND;TZID=Europe/Brussels:20240926T220000
DTSTAMP:20260423T164750
CREATED:20240906T083352Z
LAST-MODIFIED:20240916T101206Z
UID:31685-1727373600-1727388000@www.steinerschoolleuven.be
SUMMARY:Griezeltocht
DESCRIPTION:klassen 9 tot 12
URL:https://www.steinerschoolleuven.be/activiteit/klassen-9-tot-12-griezeltocht/
CATEGORIES:Middelbaar
END:VEVENT
BEGIN:VEVENT
DTSTART;TZID=Europe/Brussels:20240920T170000
DTEND;TZID=Europe/Brussels:20240922T140000
DTSTAMP:20260423T164750
CREATED:20240916T103843Z
LAST-MODIFIED:20240916T103844Z
UID:31747-1726851600-1727013600@www.steinerschoolleuven.be
SUMMARY:Klasweekend klas 11
DESCRIPTION:klas 11A gaat naar het Veerse meer\, klas 11B naar Wenduine
URL:https://www.steinerschoolleuven.be/activiteit/klasweekend-klas-11/
CATEGORIES:Middelbaar
END:VEVENT
BEGIN:VEVENT
DTSTART;TZID=Europe/Brussels:20240826T000000
DTEND;TZID=Europe/Brussels:20240827T235959
DTSTAMP:20260423T164750
CREATED:20231011T112620Z
LAST-MODIFIED:20240426T112042Z
UID:28678-1724630400-1724803199@www.steinerschoolleuven.be
SUMMARY:Herexamens en vakantietaken middelbare school
DESCRIPTION:
URL:https://www.steinerschoolleuven.be/activiteit/herexamens-en-vakantietaken-middelbare-school-2/
CATEGORIES:Middelbaar
END:VEVENT
BEGIN:VEVENT
DTSTART;TZID=Europe/Brussels:20240628T100000
DTEND;TZID=Europe/Brussels:20240628T120000
DTSTAMP:20260423T164750
CREATED:20231011T112606Z
LAST-MODIFIED:20231011T160423Z
UID:28677-1719568800-1719576000@www.steinerschoolleuven.be
SUMMARY:Uitreiking getuigschriften en rapporten
DESCRIPTION:
URL:https://www.steinerschoolleuven.be/activiteit/uitreiking-getuigschriften-en-rapporten/
CATEGORIES:Middelbaar
END:VEVENT
BEGIN:VEVENT
DTSTART;TZID=Europe/Brussels:20240626T180000
DTEND;TZID=Europe/Brussels:20240626T233000
DTSTAMP:20260423T164750
CREATED:20231011T112606Z
LAST-MODIFIED:20231011T160423Z
UID:28676-1719424800-1719444600@www.steinerschoolleuven.be
SUMMARY:Diploma uitreiking klas 12
DESCRIPTION:proclamatie ouders en leerlingen klas 12
URL:https://www.steinerschoolleuven.be/activiteit/diploma-uitreiking-klas-12-2/
CATEGORIES:Middelbaar
END:VEVENT
BEGIN:VEVENT
DTSTART;TZID=Europe/Brussels:20240624T000000
DTEND;TZID=Europe/Brussels:20240627T235959
DTSTAMP:20260423T164750
CREATED:20231011T112521Z
LAST-MODIFIED:20240426T111727Z
UID:28662-1719187200-1719532799@www.steinerschoolleuven.be
SUMMARY:Deliberaties middelbare school
DESCRIPTION:vrij voor de leerlingen van de middelbare school
URL:https://www.steinerschoolleuven.be/activiteit/deliberaties-middelbare-school-3/
CATEGORIES:Middelbaar
END:VEVENT
BEGIN:VEVENT
DTSTART;TZID=Europe/Brussels:20240617T000000
DTEND;TZID=Europe/Brussels:20240621T235959
DTSTAMP:20260423T164750
CREATED:20231011T112521Z
LAST-MODIFIED:20231011T160423Z
UID:28659-1718582400-1719014399@www.steinerschoolleuven.be
SUMMARY:Examens klas 11 en 12
DESCRIPTION:
URL:https://www.steinerschoolleuven.be/activiteit/examens-klas-11-en-12-2/
CATEGORIES:Middelbaar
END:VEVENT
BEGIN:VEVENT
DTSTART;TZID=Europe/Brussels:20240607T190000
DTEND;TZID=Europe/Brussels:20240607T220000
DTSTAMP:20260423T164750
CREATED:20240523T103747Z
LAST-MODIFIED:20240523T103749Z
UID:31434-1717786800-1717797600@www.steinerschoolleuven.be
SUMMARY:Leerlingen 'expressie koken' van klas 12 nodigen hun ouders uit voor een etentje
DESCRIPTION:
URL:https://www.steinerschoolleuven.be/activiteit/leerlingen-expressie-koken-van-klas-12-nodigen-hun-ouders-uit-voor-een-etentje/
CATEGORIES:Middelbaar
END:VEVENT
BEGIN:VEVENT
DTSTART;TZID=Europe/Brussels:20240603T000000
DTEND;TZID=Europe/Brussels:20240607T235959
DTSTAMP:20260423T164750
CREATED:20231011T112506Z
LAST-MODIFIED:20240418T090112Z
UID:28657-1717372800-1717804799@www.steinerschoolleuven.be
SUMMARY:Extra Muros Projectweek klas 7 en 8
DESCRIPTION:Klas 7 Ardennenweek – Klas 8 zeilweek in Pean NL
URL:https://www.steinerschoolleuven.be/activiteit/extra-muros-projectweek-klas-7-en-8-2/
CATEGORIES:Middelbaar
END:VEVENT
BEGIN:VEVENT
DTSTART;TZID=Europe/Brussels:20240523T194500
DTEND;TZID=Europe/Brussels:20240523T230000
DTSTAMP:20260423T164750
CREATED:20240508T104317Z
LAST-MODIFIED:20240508T104803Z
UID:31339-1716493500-1716505200@www.steinerschoolleuven.be
SUMMARY:Klas 7B praktische info over Ardennenweek en jaarwerkpresentaties
DESCRIPTION:Om 19u45 in de grote zaal
URL:https://www.steinerschoolleuven.be/activiteit/klas-7b-praktische-info-over-ardennenweek-en-jaarwerkpresentaties/
CATEGORIES:Middelbaar
END:VEVENT
BEGIN:VEVENT
DTSTART;TZID=Europe/Brussels:20240522T194500
DTEND;TZID=Europe/Brussels:20240522T230000
DTSTAMP:20260423T164750
CREATED:20240508T104034Z
LAST-MODIFIED:20240508T104725Z
UID:31335-1716407100-1716418800@www.steinerschoolleuven.be
SUMMARY:Klas 7A praktische info over Ardennenweek en jaarwerkpresentaties
DESCRIPTION:Om 19u 45 in de grote zaal
URL:https://www.steinerschoolleuven.be/activiteit/klas-7a-praktische-info-over-ardennenweek-en-jaarwerkpresentaties/
CATEGORIES:Middelbaar
END:VEVENT
BEGIN:VEVENT
DTSTART;TZID=Europe/Brussels:20240517T110000
DTEND;TZID=Europe/Brussels:20240517T150000
DTSTAMP:20260423T164750
CREATED:20240508T103709Z
LAST-MODIFIED:20240508T103711Z
UID:31333-1715943600-1715958000@www.steinerschoolleuven.be
SUMMARY:Klas 7 A&B met de fiets naar Leuven
DESCRIPTION:Vertrek na het hoofdonderwijs\, terug om 15u. Meer info via mail
URL:https://www.steinerschoolleuven.be/activiteit/klas-7-ab-met-de-fiets-naar-leuven/
CATEGORIES:Middelbaar
END:VEVENT
END:VCALENDAR