BEGIN:VCALENDAR
VERSION:2.0
PRODID:-//Steinerschool Leuven de Zonnewijzer - ECPv6.15.20//NONSGML v1.0//EN
CALSCALE:GREGORIAN
METHOD:PUBLISH
X-ORIGINAL-URL:https://www.steinerschoolleuven.be
X-WR-CALDESC:Evenementen voor Steinerschool Leuven de Zonnewijzer
REFRESH-INTERVAL;VALUE=DURATION:PT1H
X-Robots-Tag:noindex
X-PUBLISHED-TTL:PT1H
BEGIN:VTIMEZONE
TZID:Europe/Brussels
BEGIN:DAYLIGHT
TZOFFSETFROM:+0100
TZOFFSETTO:+0200
TZNAME:CEST
DTSTART:20250330T010000
END:DAYLIGHT
BEGIN:STANDARD
TZOFFSETFROM:+0200
TZOFFSETTO:+0100
TZNAME:CET
DTSTART:20251026T010000
END:STANDARD
BEGIN:DAYLIGHT
TZOFFSETFROM:+0100
TZOFFSETTO:+0200
TZNAME:CEST
DTSTART:20260329T010000
END:DAYLIGHT
BEGIN:STANDARD
TZOFFSETFROM:+0200
TZOFFSETTO:+0100
TZNAME:CET
DTSTART:20261025T010000
END:STANDARD
BEGIN:DAYLIGHT
TZOFFSETFROM:+0100
TZOFFSETTO:+0200
TZNAME:CEST
DTSTART:20270328T010000
END:DAYLIGHT
BEGIN:STANDARD
TZOFFSETFROM:+0200
TZOFFSETTO:+0100
TZNAME:CET
DTSTART:20271031T010000
END:STANDARD
END:VTIMEZONE
BEGIN:VEVENT
DTSTART;TZID=Europe/Brussels:20260511T190000
DTEND;TZID=Europe/Brussels:20260511T213000
DTSTAMP:20260425T131108
CREATED:20260424T113442Z
LAST-MODIFIED:20260424T114038Z
UID:38641-1778526000-1778535000@www.steinerschoolleuven.be
SUMMARY:Ouderavond rond Artificiële Intelligentie (AI) en de middelbare school
DESCRIPTION:Graag inschrijven. Iedereen is welkom\, maar de aandacht richt zich uiteraard op de middelbare school.
URL:https://www.steinerschoolleuven.be/activiteit/ouderavond-rond-artificiele-intelligentie-ai-en-de-middelbare-school/
CATEGORIES:Middelbaar
END:VEVENT
BEGIN:VEVENT
DTSTART;TZID=Europe/Brussels:20260521T193000
DTEND;TZID=Europe/Brussels:20260521T220000
DTSTAMP:20260425T131108
CREATED:20260424T112101Z
LAST-MODIFIED:20260424T112104Z
UID:38639-1779391800-1779400800@www.steinerschoolleuven.be
SUMMARY:Klas 7 A&B ouderavond
DESCRIPTION:
URL:https://www.steinerschoolleuven.be/activiteit/klas-7-ab-ouderavond-2/
CATEGORIES:Middelbaar
END:VEVENT
END:VCALENDAR