BEGIN:VCALENDAR
VERSION:2.0
PRODID:-//Steinerschool Leuven de Zonnewijzer - ECPv6.15.20//NONSGML v1.0//EN
CALSCALE:GREGORIAN
METHOD:PUBLISH
X-ORIGINAL-URL:https://www.steinerschoolleuven.be
X-WR-CALDESC:Evenementen voor Steinerschool Leuven de Zonnewijzer
REFRESH-INTERVAL;VALUE=DURATION:PT1H
X-Robots-Tag:noindex
X-PUBLISHED-TTL:PT1H
BEGIN:VTIMEZONE
TZID:Europe/Brussels
BEGIN:DAYLIGHT
TZOFFSETFROM:+0100
TZOFFSETTO:+0200
TZNAME:CEST
DTSTART:20250330T010000
END:DAYLIGHT
BEGIN:STANDARD
TZOFFSETFROM:+0200
TZOFFSETTO:+0100
TZNAME:CET
DTSTART:20251026T010000
END:STANDARD
BEGIN:DAYLIGHT
TZOFFSETFROM:+0100
TZOFFSETTO:+0200
TZNAME:CEST
DTSTART:20260329T010000
END:DAYLIGHT
BEGIN:STANDARD
TZOFFSETFROM:+0200
TZOFFSETTO:+0100
TZNAME:CET
DTSTART:20261025T010000
END:STANDARD
BEGIN:DAYLIGHT
TZOFFSETFROM:+0100
TZOFFSETTO:+0200
TZNAME:CEST
DTSTART:20270328T010000
END:DAYLIGHT
BEGIN:STANDARD
TZOFFSETFROM:+0200
TZOFFSETTO:+0100
TZNAME:CET
DTSTART:20271031T010000
END:STANDARD
END:VTIMEZONE
BEGIN:VEVENT
DTSTART;TZID=Europe/Brussels:20260426T093000
DTEND;TZID=Europe/Brussels:20260426T123000
DTSTAMP:20260423T121816
CREATED:20251010T104702Z
LAST-MODIFIED:20260403T113200Z
UID:35035-1777195800-1777206600@www.steinerschoolleuven.be
SUMMARY:Ouderacademie
DESCRIPTION:
URL:https://www.steinerschoolleuven.be/activiteit/ouderacademie-8/
CATEGORIES:Algemeen
ATTACH;FMTTYPE=image/jpeg:https://www.steinerschoolleuven.be/wp-content/uploads/Ouderacademie-april-26.jpg
END:VEVENT
BEGIN:VEVENT
DTSTART;TZID=Europe/Brussels:20260704T100000
DTEND;TZID=Europe/Brussels:20260704T170000
DTSTAMP:20260423T121816
CREATED:20251128T134508Z
LAST-MODIFIED:20251128T134754Z
UID:35508-1783159200-1783184400@www.steinerschoolleuven.be
SUMMARY:KLUS- en TUINDAG
DESCRIPTION:
URL:https://www.steinerschoolleuven.be/activiteit/klus-en-tuindag-4/
CATEGORIES:Algemeen
END:VEVENT
END:VCALENDAR