BEGIN:VCALENDAR
VERSION:2.0
PRODID:-//Steinerschool Leuven de Zonnewijzer - ECPv6.15.20//NONSGML v1.0//EN
CALSCALE:GREGORIAN
METHOD:PUBLISH
X-WR-CALNAME:Steinerschool Leuven de Zonnewijzer
X-ORIGINAL-URL:https://www.steinerschoolleuven.be
X-WR-CALDESC:Evenementen voor Steinerschool Leuven de Zonnewijzer
REFRESH-INTERVAL;VALUE=DURATION:PT1H
X-Robots-Tag:noindex
X-PUBLISHED-TTL:PT1H
BEGIN:VTIMEZONE
TZID:Europe/Brussels
BEGIN:DAYLIGHT
TZOFFSETFROM:+0100
TZOFFSETTO:+0200
TZNAME:CEST
DTSTART:20220327T010000
END:DAYLIGHT
BEGIN:STANDARD
TZOFFSETFROM:+0200
TZOFFSETTO:+0100
TZNAME:CET
DTSTART:20221030T010000
END:STANDARD
BEGIN:DAYLIGHT
TZOFFSETFROM:+0100
TZOFFSETTO:+0200
TZNAME:CEST
DTSTART:20230326T010000
END:DAYLIGHT
BEGIN:STANDARD
TZOFFSETFROM:+0200
TZOFFSETTO:+0100
TZNAME:CET
DTSTART:20231029T010000
END:STANDARD
BEGIN:DAYLIGHT
TZOFFSETFROM:+0100
TZOFFSETTO:+0200
TZNAME:CEST
DTSTART:20240331T010000
END:DAYLIGHT
BEGIN:STANDARD
TZOFFSETFROM:+0200
TZOFFSETTO:+0100
TZNAME:CET
DTSTART:20241027T010000
END:STANDARD
BEGIN:DAYLIGHT
TZOFFSETFROM:+0100
TZOFFSETTO:+0200
TZNAME:CEST
DTSTART:20250330T010000
END:DAYLIGHT
BEGIN:STANDARD
TZOFFSETFROM:+0200
TZOFFSETTO:+0100
TZNAME:CET
DTSTART:20251026T010000
END:STANDARD
BEGIN:DAYLIGHT
TZOFFSETFROM:+0100
TZOFFSETTO:+0200
TZNAME:CEST
DTSTART:20260329T010000
END:DAYLIGHT
BEGIN:STANDARD
TZOFFSETFROM:+0200
TZOFFSETTO:+0100
TZNAME:CET
DTSTART:20261025T010000
END:STANDARD
BEGIN:DAYLIGHT
TZOFFSETFROM:+0100
TZOFFSETTO:+0200
TZNAME:CEST
DTSTART:20270328T010000
END:DAYLIGHT
BEGIN:STANDARD
TZOFFSETFROM:+0200
TZOFFSETTO:+0100
TZNAME:CET
DTSTART:20271031T010000
END:STANDARD
END:VTIMEZONE
BEGIN:VEVENT
DTSTART;TZID=Europe/Brussels:20260311T000000
DTEND;TZID=Europe/Brussels:20260311T235959
DTSTAMP:20260423T152030
CREATED:20251107T142422Z
LAST-MODIFIED:20251107T144501Z
UID:35118-1773187200-1773273599@www.steinerschoolleuven.be
SUMMARY:Pedagogische studiedag Basisschool
DESCRIPTION:
URL:https://www.steinerschoolleuven.be/activiteit/pedagogische-studiedag-basisschool-2/
CATEGORIES:Basisschool
END:VEVENT
BEGIN:VEVENT
DTSTART;TZID=Europe/Brussels:20260310T000000
DTEND;TZID=Europe/Brussels:20260310T235959
DTSTAMP:20260423T152030
CREATED:20251107T142246Z
LAST-MODIFIED:20251107T142249Z
UID:35116-1773100800-1773187199@www.steinerschoolleuven.be
SUMMARY:Pedagogische studiedag Middelbaar
DESCRIPTION:vrij voor de leerlingen van klassen 7 – 12
URL:https://www.steinerschoolleuven.be/activiteit/pedagogische-studiedag-middelbaar-2/
CATEGORIES:Middelbaar
END:VEVENT
BEGIN:VEVENT
DTSTART;TZID=Europe/Brussels:20260226T000000
DTEND;TZID=Europe/Brussels:20260226T235959
DTSTAMP:20260423T152030
CREATED:20251107T142015Z
LAST-MODIFIED:20251107T142123Z
UID:35112-1772064000-1772150399@www.steinerschoolleuven.be
SUMMARY:Evaluatiedag Middelbaar
DESCRIPTION:vrij voor de leerlingen van klassen 7 – 12
URL:https://www.steinerschoolleuven.be/activiteit/evaluatiedag/
CATEGORIES:Middelbaar
END:VEVENT
BEGIN:VEVENT
DTSTART;TZID=Europe/Brussels:20231028T000000
DTEND;TZID=Europe/Brussels:20231028T235959
DTSTAMP:20260423T152030
CREATED:20231015T142740Z
LAST-MODIFIED:20231015T143220Z
UID:29191-1698451200-1698537599@www.steinerschoolleuven.be
SUMMARY:Conferentiedag van de Vrije Hogeschool België
DESCRIPTION:Op zaterdag 28 oktober organiseert de Vrije Hogeschool in België een conferentiedag hier op school.Om de organisatie vlot te laten verlopen vragen ze uitdrukkelijk om jouw -eventuele- aanwezigheidte melden vóór 21/10. \n\n\n\n’s Middags voorzien we soep. Voor ‘ s avonds kan je – mits inschrijving – van een warme maaltijd genieten. \n\n\n\nWie met de auto komt\, gelieve te parkeren op de grote parking aan het station van Wijgmaal.De dreef is autovrij. \n\n\n\nProgramma en inschrijvingsgegevens zie website van de antroposofische vereniging.
URL:https://www.steinerschoolleuven.be/activiteit/conferentiedag-van-de-vrije-hogeschool-belgie/
CATEGORIES:Algemeen
END:VEVENT
BEGIN:VEVENT
DTSTART;TZID=Europe/Brussels:20231024T200000
DTEND;TZID=Europe/Brussels:20231024T220000
DTSTAMP:20260423T152030
CREATED:20231015T142737Z
LAST-MODIFIED:20231015T143322Z
UID:29188-1698177600-1698184800@www.steinerschoolleuven.be
SUMMARY:Algemene vergadering van vzw R. Steinerschool Leuven Basisschool en vzw Vereniging Steinerpedagogie
DESCRIPTION:Voor leden en nieuw aangemelde leden. Op dinsdag 24 oktober om 20u vindt de algemene vergadering plaats van de vzw R. Steinerschool Leuven Basisschool en de vzw Vereniging ter Bevordering van de Steinerpedagogie in Leuven en omstreken (afgekort: vzw Vereniging Steinerpedagogie). \n\n\n\nDe eerste vzw is de inrichtende macht van onze basisschool\, de tweede vzw helpt de basisschool en demiddelbare school financieel te schragen (o.a. door vrijwillige financiële bijdragen van ouders via hetsolidariteitsfonds). \n\n\n\nAl wie zich vanuit zijn/haar betrokkenheid engageert voor de werking van de scholencampus “DeZonnewijzer” kan lid worden van deze school-vzw’s. Afhankelijk van zijn situatie en interesse kan menervoor opteren lid te worden van beide vzw’s of slechts van één van beide. \n\n\n\nHet volstaat dat men zijn kandidatuur stelt bij Joost aan het onthaal Joost.fabri@steinerschoolleuven.be.Voor meer informatie kan je terecht bij: \n\n\n\n\n hannesdegeest@gmail.com voor de vzw Basisschool\n\n\n\n thomas.deherdt@steinerschoolleuven.be voor de vzw Vereniging Steinerpedagogie\n\n\n\n\nWe verwelkomen graag nieuwe leden\, die aanvaard zullen worden bij de opening van de algemenevergadering. Hoe meer ouders en medewerkers van de school lid zijn\, hoe groter de gedragenheid van het beleid dat de twee vzw’s voeren. \n\n\n\nDe belangrijkste bevoegdheden van de algemene vergadering zijn de goedkeuring van de rekeningen enbegrotingen\, en de verkiezing van de bestuurders van de vzw’s. \n\n\n\nDe algemene vergadering is ook de plaats waar leden van de vzw’s vragen kunnen stellen en suggestieskunnen doen aan de raden van bestuur.
URL:https://www.steinerschoolleuven.be/activiteit/algemene-vergadering-van-vzw-r-steinerschool-leuven-basisschool-en-vzw-vereniging-steinerpedagogie/
CATEGORIES:Algemeen
END:VEVENT
END:VCALENDAR